BEGIN:VCALENDAR
VERSION:2.0
PRODID:-//Wayne Township, Mifflin County Pennsylvania - ECPv6.15.20//NONSGML v1.0//EN
CALSCALE:GREGORIAN
METHOD:PUBLISH
X-WR-CALNAME:Wayne Township, Mifflin County Pennsylvania
X-ORIGINAL-URL:https://waynetwp.net
X-WR-CALDESC:Events for Wayne Township, Mifflin County Pennsylvania
REFRESH-INTERVAL;VALUE=DURATION:PT1H
X-Robots-Tag:noindex
X-PUBLISHED-TTL:PT1H
BEGIN:VTIMEZONE
TZID:UTC
BEGIN:STANDARD
TZOFFSETFROM:+0000
TZOFFSETTO:+0000
TZNAME:UTC
DTSTART:20230101T000000
END:STANDARD
END:VTIMEZONE
BEGIN:VEVENT
DTSTART;TZID=UTC:20240923T180000
DTEND;TZID=UTC:20240923T193000
DTSTAMP:20260425T090229
CREATED:20240614T232404Z
LAST-MODIFIED:20240614T232404Z
UID:10000015-1727114400-1727119800@waynetwp.net
SUMMARY:Monthly Advisory Recreation Board Meeting
DESCRIPTION:Attend to see what all the talk is about. Help bring our community closer together. Your ideas and opinions will be much appreciated. We need your help!!!
URL:https://waynetwp.net/event/monthly-advisory-recreation-board-meeting-4/
LOCATION:Atkinson Mills School House\, 3055 Ferguson Valley Road\, McVeytown\, PA\, 17051\, United States
ORGANIZER;CN="Wayne Township Advisory Recreation Board":MAILTO:recboard@waynetwp.net
END:VEVENT
END:VCALENDAR