BEGIN:VCALENDAR
VERSION:2.0
PRODID:-//Wayne Township, Mifflin County Pennsylvania - ECPv6.15.20//NONSGML v1.0//EN
CALSCALE:GREGORIAN
METHOD:PUBLISH
X-WR-CALNAME:Wayne Township, Mifflin County Pennsylvania
X-ORIGINAL-URL:https://waynetwp.net
X-WR-CALDESC:Events for Wayne Township, Mifflin County Pennsylvania
REFRESH-INTERVAL;VALUE=DURATION:PT1H
X-Robots-Tag:noindex
X-PUBLISHED-TTL:PT1H
BEGIN:VTIMEZONE
TZID:UTC
BEGIN:STANDARD
TZOFFSETFROM:+0000
TZOFFSETTO:+0000
TZNAME:UTC
DTSTART:20230101T000000
END:STANDARD
END:VTIMEZONE
BEGIN:VEVENT
DTSTART;TZID=UTC:20241026T160000
DTEND;TZID=UTC:20241026T180000
DTSTAMP:20260425T090217
CREATED:20240914T122803Z
LAST-MODIFIED:20240926T070614Z
UID:10000026-1729958400-1729965600@waynetwp.net
SUMMARY:Trunk or Treat
DESCRIPTION:Wayne Township Recreation Board is sponsoring a Trunk or Treat event for the community. Bring out you children and grandchildren to a safe environment to celebrate Halloween. Dress the part. Decorate your trunk. Have fun with this event. \nThere will be a prize for the best decorated trunk. Contact the Recreation Board to sign up if you plan on decorating a trunk. \nTrunk or Treat Flyer \nTrunk Guidelines
URL:https://waynetwp.net/event/trunk-or-treat/
LOCATION:Wayne Township Municipal Park\, 3055 Ferguson Valley Road\, McVeytown\, PA\, 17051\, United States
ORGANIZER;CN="Wayne Township Advisory Recreation Board":MAILTO:recboard@waynetwp.net
END:VEVENT
END:VCALENDAR