BEGIN:VCALENDAR
VERSION:2.0
PRODID:-//Wayne Township, Mifflin County Pennsylvania - ECPv6.15.20//NONSGML v1.0//EN
CALSCALE:GREGORIAN
METHOD:PUBLISH
X-WR-CALNAME:Wayne Township, Mifflin County Pennsylvania
X-ORIGINAL-URL:https://waynetwp.net
X-WR-CALDESC:Events for Wayne Township, Mifflin County Pennsylvania
REFRESH-INTERVAL;VALUE=DURATION:PT1H
X-Robots-Tag:noindex
X-PUBLISHED-TTL:PT1H
BEGIN:VTIMEZONE
TZID:UTC
BEGIN:STANDARD
TZOFFSETFROM:+0000
TZOFFSETTO:+0000
TZNAME:UTC
DTSTART:20240101T000000
END:STANDARD
END:VTIMEZONE
BEGIN:VEVENT
DTSTART;TZID=UTC:20251006T190000
DTEND;TZID=UTC:20251006T203000
DTSTAMP:20260424T101619
CREATED:20240613T050459Z
LAST-MODIFIED:20250106T032143Z
UID:10000102-1759777200-1759782600@waynetwp.net
SUMMARY:Monthly Township Meeting
DESCRIPTION:Keep informed on what is happening in the community. Voice your concerns. The agenda for this meeting can be viewed on the document section of the township website. It will be posted the Friday before the meeting.
URL:https://waynetwp.net/event/monthly-township-meeting-6/2025-10-06/
LOCATION:Atkinson Mills School House\, 3055 Ferguson Valley Road\, McVeytown\, PA\, 17051\, United States
END:VEVENT
END:VCALENDAR