BEGIN:VCALENDAR
VERSION:2.0
PRODID:-//Wayne Township, Mifflin County Pennsylvania - ECPv6.15.20//NONSGML v1.0//EN
CALSCALE:GREGORIAN
METHOD:PUBLISH
X-WR-CALNAME:Wayne Township, Mifflin County Pennsylvania
X-ORIGINAL-URL:https://waynetwp.net
X-WR-CALDESC:Events for Wayne Township, Mifflin County Pennsylvania
REFRESH-INTERVAL;VALUE=DURATION:PT1H
X-Robots-Tag:noindex
X-PUBLISHED-TTL:PT1H
BEGIN:VTIMEZONE
TZID:America/New_York
BEGIN:DAYLIGHT
TZOFFSETFROM:-0500
TZOFFSETTO:-0400
TZNAME:EDT
DTSTART:20290311T070000
END:DAYLIGHT
BEGIN:STANDARD
TZOFFSETFROM:-0400
TZOFFSETTO:-0500
TZNAME:EST
DTSTART:20291104T060000
END:STANDARD
BEGIN:DAYLIGHT
TZOFFSETFROM:-0500
TZOFFSETTO:-0400
TZNAME:EDT
DTSTART:20300310T070000
END:DAYLIGHT
BEGIN:STANDARD
TZOFFSETFROM:-0400
TZOFFSETTO:-0500
TZNAME:EST
DTSTART:20301103T060000
END:STANDARD
BEGIN:DAYLIGHT
TZOFFSETFROM:-0500
TZOFFSETTO:-0400
TZNAME:EDT
DTSTART:20310309T070000
END:DAYLIGHT
BEGIN:STANDARD
TZOFFSETFROM:-0400
TZOFFSETTO:-0500
TZNAME:EST
DTSTART:20311102T060000
END:STANDARD
END:VTIMEZONE
BEGIN:VEVENT
DTSTART;TZID=America/New_York:20300515T180000
DTEND;TZID=America/New_York:20300515T200000
DTSTAMP:20260425T090355
CREATED:20250525T224743Z
LAST-MODIFIED:20250525T224743Z
UID:10000226-1905098400-1905105600@waynetwp.net
SUMMARY:Wayne Township Workshop
DESCRIPTION:Dear Community Members\, \nWe are excited to invite you to our upcoming Township Workshop. This gathering is a vital opportunity to review all of the current projects and issues that are currently being addressed by the Supervisors. This meeting is not for new business. New business is to be addressed at the monthly township meeting. This is a informal meeting for the supervisors to discuss existing matters. While discussions will take place\, no official voting will take place. Limited public input can be accepted.
URL:https://waynetwp.net/event/wayne-township-workshop/2030-05-15/
LOCATION:Country Crossroads Community Center
END:VEVENT
END:VCALENDAR