BEGIN:VCALENDAR
VERSION:2.0
PRODID:-//Wayne Township, Mifflin County Pennsylvania - ECPv6.15.20//NONSGML v1.0//EN
CALSCALE:GREGORIAN
METHOD:PUBLISH
X-WR-CALNAME:Wayne Township, Mifflin County Pennsylvania
X-ORIGINAL-URL:https://waynetwp.net
X-WR-CALDESC:Events for Wayne Township, Mifflin County Pennsylvania
REFRESH-INTERVAL;VALUE=DURATION:PT1H
X-Robots-Tag:noindex
X-PUBLISHED-TTL:PT1H
BEGIN:VTIMEZONE
TZID:UTC
BEGIN:STANDARD
TZOFFSETFROM:+0000
TZOFFSETTO:+0000
TZNAME:UTC
DTSTART:20230101T000000
END:STANDARD
END:VTIMEZONE
BEGIN:VEVENT
DTSTART;TZID=UTC:20240722T180000
DTEND;TZID=UTC:20240722T193000
DTSTAMP:20260425T083923
CREATED:20240614T232009Z
LAST-MODIFIED:20240614T232009Z
UID:10000013-1721671200-1721676600@waynetwp.net
SUMMARY:Monthly Advisory Recreation Board Meeting
DESCRIPTION:Attend to see what all the talk is about. Help bring our community closer together. Your ideas and opinions will be much appreciated. We need your help!!!
URL:https://waynetwp.net/event/monthly-advisory-recreation-board-meeting-2/
LOCATION:Atkinson Mills School House\, 3055 Ferguson Valley Road\, McVeytown\, PA\, 17051\, United States
ORGANIZER;CN="Wayne Township Advisory Recreation Board":MAILTO:recboard@waynetwp.net
END:VEVENT
BEGIN:VEVENT
DTSTART;TZID=UTC:20240720T160000
DTEND;TZID=UTC:20240720T200000
DTSTAMP:20260425T083923
CREATED:20240505T204617Z
LAST-MODIFIED:20240705T061838Z
UID:10000001-1721491200-1721505600@waynetwp.net
SUMMARY:Community Event
DESCRIPTION:
URL:https://waynetwp.net/event/community-event/
LOCATION:Wayne Township Municipal Park\, 3055 Ferguson Valley Road\, McVeytown\, PA\, 17051\, United States
END:VEVENT
BEGIN:VEVENT
DTSTART;TZID=UTC:20240713T170000
DTEND;TZID=UTC:20240713T210000
DTSTAMP:20260425T083923
CREATED:20240615T143616Z
LAST-MODIFIED:20240622T093454Z
UID:10000019-1720890000-1720904400@waynetwp.net
SUMMARY:Rocky Ridge Ranch Rodeo
DESCRIPTION:Come out and have a family fun filled evening at the rodeo. Experience the uniqueness of attending a professional rodeo right here in Wayne Township. \nGates Open at 5:00 PM \nKids Rodeo Starts at 6:00 PM \nAdult Rodeo Starts at 7:00 PM \nAdult Tickets are $15.00 \nKids Ticket Age 6-12 Years are $10.00 \nChildren Under 6 Years Old are Free.
URL:https://waynetwp.net/event/rocky-ridge-rodeo/
LOCATION:Rocky Ridge Ranch\, 4357 Ferguson Valley Road\, McVeytown\, PA\, 17051
END:VEVENT
BEGIN:VEVENT
DTSTART;TZID=UTC:20240701T190000
DTEND;TZID=UTC:20240701T203000
DTSTAMP:20260425T083923
CREATED:20240611T192115Z
LAST-MODIFIED:20240611T192514Z
UID:10000005-1719860400-1719865800@waynetwp.net
SUMMARY:Monthly Township Meeting
DESCRIPTION:Keep informed on what is happening in our community. Voice your \,concerns. The agenda for this meeting can be viewed on the documents section of the township website. It will be posted the Friday before the meeting.
URL:https://waynetwp.net/event/monthly-township-meeting-2/
LOCATION:Atkinson Mills School House\, 3055 Ferguson Valley Road\, McVeytown\, PA\, 17051\, United States
END:VEVENT
BEGIN:VEVENT
DTSTART;TZID=UTC:20240624T180000
DTEND;TZID=UTC:20240624T193000
DTSTAMP:20260425T083923
CREATED:20240614T032203Z
LAST-MODIFIED:20240614T032203Z
UID:10000011-1719252000-1719257400@waynetwp.net
SUMMARY:Monthly Advisory Recreation Board Meeting
DESCRIPTION:Attend to see what all the talk is about. Help bring our community closer together. Your ideas and opinions will be much appreciated. We need your help!!!
URL:https://waynetwp.net/event/monthly-advisory-recreation-board-meeting/
LOCATION:Atkinson Mills School House\, 3055 Ferguson Valley Road\, McVeytown\, PA\, 17051\, United States
ORGANIZER;CN="Wayne Township Advisory Recreation Board":MAILTO:recboard@waynetwp.net
END:VEVENT
END:VCALENDAR