BEGIN:VCALENDAR
VERSION:2.0
PRODID:-//Wayne Township, Mifflin County Pennsylvania - ECPv6.15.20//NONSGML v1.0//EN
CALSCALE:GREGORIAN
METHOD:PUBLISH
X-WR-CALNAME:Wayne Township, Mifflin County Pennsylvania
X-ORIGINAL-URL:https://waynetwp.net
X-WR-CALDESC:Events for Wayne Township, Mifflin County Pennsylvania
REFRESH-INTERVAL;VALUE=DURATION:PT1H
X-Robots-Tag:noindex
X-PUBLISHED-TTL:PT1H
BEGIN:VTIMEZONE
TZID:UTC
BEGIN:STANDARD
TZOFFSETFROM:+0000
TZOFFSETTO:+0000
TZNAME:UTC
DTSTART:20240101T000000
END:STANDARD
END:VTIMEZONE
BEGIN:VTIMEZONE
TZID:America/New_York
BEGIN:DAYLIGHT
TZOFFSETFROM:-0500
TZOFFSETTO:-0400
TZNAME:EDT
DTSTART:20240310T070000
END:DAYLIGHT
BEGIN:STANDARD
TZOFFSETFROM:-0400
TZOFFSETTO:-0500
TZNAME:EST
DTSTART:20241103T060000
END:STANDARD
BEGIN:DAYLIGHT
TZOFFSETFROM:-0500
TZOFFSETTO:-0400
TZNAME:EDT
DTSTART:20250309T070000
END:DAYLIGHT
BEGIN:STANDARD
TZOFFSETFROM:-0400
TZOFFSETTO:-0500
TZNAME:EST
DTSTART:20251102T060000
END:STANDARD
BEGIN:DAYLIGHT
TZOFFSETFROM:-0500
TZOFFSETTO:-0400
TZNAME:EDT
DTSTART:20260308T070000
END:DAYLIGHT
BEGIN:STANDARD
TZOFFSETFROM:-0400
TZOFFSETTO:-0500
TZNAME:EST
DTSTART:20261101T060000
END:STANDARD
END:VTIMEZONE
BEGIN:VEVENT
DTSTART;TZID=UTC:20251027T180000
DTEND;TZID=UTC:20251027T193000
DTSTAMP:20260425T074728
CREATED:20240614T232912Z
LAST-MODIFIED:20250106T032043Z
UID:10000042-1761588000-1761593400@waynetwp.net
SUMMARY:Monthly Advisory Recreation Board Meeting
DESCRIPTION:Attend to see what all the talk is about. Help bring our community closer together. Your ideas and opinions will be much appreciated. We need your help!!! \n 
URL:https://waynetwp.net/event/monthly-advisory-recreation-board-meeting-7/2025-10-27/
LOCATION:Atkinson Mills School House\, 3055 Ferguson Valley Road\, McVeytown\, PA\, 17051\, United States
ORGANIZER;CN="Wayne Township Advisory Recreation Board":MAILTO:recboard@waynetwp.net
END:VEVENT
BEGIN:VEVENT
DTSTART;TZID=America/New_York:20251015T180000
DTEND;TZID=America/New_York:20251015T200000
DTSTAMP:20260425T074728
CREATED:20250525T224743Z
LAST-MODIFIED:20250525T224743Z
UID:10000171-1760551200-1760558400@waynetwp.net
SUMMARY:Wayne Township Workshop
DESCRIPTION:Dear Community Members\, \nWe are excited to invite you to our upcoming Township Workshop. This gathering is a vital opportunity to review all of the current projects and issues that are currently being addressed by the Supervisors. This meeting is not for new business. New business is to be addressed at the monthly township meeting. This is a informal meeting for the supervisors to discuss existing matters. While discussions will take place\, no official voting will take place. Limited public input can be accepted.
URL:https://waynetwp.net/event/wayne-township-workshop/2025-10-15/
LOCATION:Country Crossroads Community Center
END:VEVENT
BEGIN:VEVENT
DTSTART;TZID=UTC:20251006T190000
DTEND;TZID=UTC:20251006T203000
DTSTAMP:20260425T074728
CREATED:20240613T050459Z
LAST-MODIFIED:20250106T032143Z
UID:10000102-1759777200-1759782600@waynetwp.net
SUMMARY:Monthly Township Meeting
DESCRIPTION:Keep informed on what is happening in the community. Voice your concerns. The agenda for this meeting can be viewed on the document section of the township website. It will be posted the Friday before the meeting.
URL:https://waynetwp.net/event/monthly-township-meeting-6/2025-10-06/
LOCATION:Atkinson Mills School House\, 3055 Ferguson Valley Road\, McVeytown\, PA\, 17051\, United States
END:VEVENT
BEGIN:VEVENT
DTSTART;TZID=UTC:20251004T140000
DTEND;TZID=UTC:20251004T180000
DTSTAMP:20260425T074728
CREATED:20250106T055006Z
LAST-MODIFIED:20250106T055006Z
UID:10000158-1759586400-1759600800@waynetwp.net
SUMMARY:Newton/Wayne Volunteer Fire Company Saturday Turkey Supper
DESCRIPTION:
URL:https://waynetwp.net/event/newton-wayne-volunteer-fire-company-saturday-turkey-supper-6/
LOCATION:Newton/Wayne Volunteer Fire Company Banquet Hall\, 9 Market Street\, Newton Hamilton\, PA\, 17075\, United States
END:VEVENT
BEGIN:VEVENT
DTSTART;TZID=UTC:20250922T180000
DTEND;TZID=UTC:20250922T193000
DTSTAMP:20260425T074728
CREATED:20240614T232912Z
LAST-MODIFIED:20250106T032043Z
UID:10000041-1758564000-1758569400@waynetwp.net
SUMMARY:Monthly Advisory Recreation Board Meeting
DESCRIPTION:Attend to see what all the talk is about. Help bring our community closer together. Your ideas and opinions will be much appreciated. We need your help!!! \n 
URL:https://waynetwp.net/event/monthly-advisory-recreation-board-meeting-7/2025-09-22/
LOCATION:Atkinson Mills School House\, 3055 Ferguson Valley Road\, McVeytown\, PA\, 17051\, United States
ORGANIZER;CN="Wayne Township Advisory Recreation Board":MAILTO:recboard@waynetwp.net
END:VEVENT
BEGIN:VEVENT
DTSTART;TZID=America/New_York:20250917T180000
DTEND;TZID=America/New_York:20250917T200000
DTSTAMP:20260425T074728
CREATED:20250525T224743Z
LAST-MODIFIED:20250525T224743Z
UID:10000170-1758132000-1758139200@waynetwp.net
SUMMARY:Wayne Township Workshop
DESCRIPTION:Dear Community Members\, \nWe are excited to invite you to our upcoming Township Workshop. This gathering is a vital opportunity to review all of the current projects and issues that are currently being addressed by the Supervisors. This meeting is not for new business. New business is to be addressed at the monthly township meeting. This is a informal meeting for the supervisors to discuss existing matters. While discussions will take place\, no official voting will take place. Limited public input can be accepted.
URL:https://waynetwp.net/event/wayne-township-workshop/2025-09-17/
LOCATION:Country Crossroads Community Center
END:VEVENT
BEGIN:VEVENT
DTSTART;TZID=UTC:20250913T140000
DTEND;TZID=UTC:20250913T180000
DTSTAMP:20260425T074728
CREATED:20250106T054939Z
LAST-MODIFIED:20250106T054939Z
UID:10000157-1757772000-1757786400@waynetwp.net
SUMMARY:Newton/Wayne Volunteer Fire Company Saturday Turkey Supper
DESCRIPTION:
URL:https://waynetwp.net/event/newton-wayne-volunteer-fire-company-saturday-turkey-supper-5/
LOCATION:Newton/Wayne Volunteer Fire Company Banquet Hall\, 9 Market Street\, Newton Hamilton\, PA\, 17075\, United States
END:VEVENT
BEGIN:VEVENT
DTSTART;TZID=UTC:20250901T190000
DTEND;TZID=UTC:20250901T203000
DTSTAMP:20260425T074728
CREATED:20240613T050459Z
LAST-MODIFIED:20250106T032143Z
UID:10000101-1756753200-1756758600@waynetwp.net
SUMMARY:Monthly Township Meeting
DESCRIPTION:Keep informed on what is happening in the community. Voice your concerns. The agenda for this meeting can be viewed on the document section of the township website. It will be posted the Friday before the meeting.
URL:https://waynetwp.net/event/monthly-township-meeting-6/2025-09-01/
LOCATION:Atkinson Mills School House\, 3055 Ferguson Valley Road\, McVeytown\, PA\, 17051\, United States
END:VEVENT
BEGIN:VEVENT
DTSTART;TZID=UTC:20250825T180000
DTEND;TZID=UTC:20250825T193000
DTSTAMP:20260425T074728
CREATED:20240614T232912Z
LAST-MODIFIED:20250106T032043Z
UID:10000040-1756144800-1756150200@waynetwp.net
SUMMARY:Monthly Advisory Recreation Board Meeting
DESCRIPTION:Attend to see what all the talk is about. Help bring our community closer together. Your ideas and opinions will be much appreciated. We need your help!!! \n 
URL:https://waynetwp.net/event/monthly-advisory-recreation-board-meeting-7/2025-08-25/
LOCATION:Atkinson Mills School House\, 3055 Ferguson Valley Road\, McVeytown\, PA\, 17051\, United States
ORGANIZER;CN="Wayne Township Advisory Recreation Board":MAILTO:recboard@waynetwp.net
END:VEVENT
BEGIN:VEVENT
DTSTART;TZID=America/New_York:20250820T180000
DTEND;TZID=America/New_York:20250820T200000
DTSTAMP:20260425T074728
CREATED:20250525T224743Z
LAST-MODIFIED:20250525T224743Z
UID:10000169-1755712800-1755720000@waynetwp.net
SUMMARY:Wayne Township Workshop
DESCRIPTION:Dear Community Members\, \nWe are excited to invite you to our upcoming Township Workshop. This gathering is a vital opportunity to review all of the current projects and issues that are currently being addressed by the Supervisors. This meeting is not for new business. New business is to be addressed at the monthly township meeting. This is a informal meeting for the supervisors to discuss existing matters. While discussions will take place\, no official voting will take place. Limited public input can be accepted.
URL:https://waynetwp.net/event/wayne-township-workshop/2025-08-20/
LOCATION:Country Crossroads Community Center
END:VEVENT
BEGIN:VEVENT
DTSTART;TZID=UTC:20250804T190000
DTEND;TZID=UTC:20250804T203000
DTSTAMP:20260425T074728
CREATED:20240613T050459Z
LAST-MODIFIED:20250106T032143Z
UID:10000100-1754334000-1754339400@waynetwp.net
SUMMARY:Monthly Township Meeting
DESCRIPTION:Keep informed on what is happening in the community. Voice your concerns. The agenda for this meeting can be viewed on the document section of the township website. It will be posted the Friday before the meeting.
URL:https://waynetwp.net/event/monthly-township-meeting-6/2025-08-04/
LOCATION:Atkinson Mills School House\, 3055 Ferguson Valley Road\, McVeytown\, PA\, 17051\, United States
END:VEVENT
BEGIN:VEVENT
DTSTART;TZID=UTC:20250728T180000
DTEND;TZID=UTC:20250728T193000
DTSTAMP:20260425T074728
CREATED:20240614T232912Z
LAST-MODIFIED:20250106T032043Z
UID:10000039-1753725600-1753731000@waynetwp.net
SUMMARY:Monthly Advisory Recreation Board Meeting
DESCRIPTION:Attend to see what all the talk is about. Help bring our community closer together. Your ideas and opinions will be much appreciated. We need your help!!! \n 
URL:https://waynetwp.net/event/monthly-advisory-recreation-board-meeting-7/2025-07-28/
LOCATION:Atkinson Mills School House\, 3055 Ferguson Valley Road\, McVeytown\, PA\, 17051\, United States
ORGANIZER;CN="Wayne Township Advisory Recreation Board":MAILTO:recboard@waynetwp.net
END:VEVENT
BEGIN:VEVENT
DTSTART;TZID=America/New_York:20250719T160000
DTEND;TZID=America/New_York:20250719T200000
DTSTAMP:20260425T074728
CREATED:20250509T064920Z
LAST-MODIFIED:20250701T121932Z
UID:10000166-1752940800-1752955200@waynetwp.net
SUMMARY:2025 Community Picnic
DESCRIPTION:Come out and relax. Enjoy the company of your neighbors. Live music\, food and games for all ages. New this year is pedal car racing. Children and adult size pedal cars. 
URL:https://waynetwp.net/event/2025-community-picnic/
LOCATION:Wayne Township Municipal Park\, 3055 Ferguson Valley Road\, McVeytown\, PA\, 17051\, United States
ATTACH;FMTTYPE=image/jpeg:https://waynetwp.net/wp-content/uploads/2025/07/Picnic-Flyer.jpg
ORGANIZER;CN="Wayne Township Advisory Recreation Board":MAILTO:recboard@waynetwp.net
END:VEVENT
BEGIN:VEVENT
DTSTART;TZID=America/New_York:20250716T180000
DTEND;TZID=America/New_York:20250716T200000
DTSTAMP:20260425T074728
CREATED:20250525T224743Z
LAST-MODIFIED:20250525T224743Z
UID:10000168-1752688800-1752696000@waynetwp.net
SUMMARY:Wayne Township Workshop
DESCRIPTION:Dear Community Members\, \nWe are excited to invite you to our upcoming Township Workshop. This gathering is a vital opportunity to review all of the current projects and issues that are currently being addressed by the Supervisors. This meeting is not for new business. New business is to be addressed at the monthly township meeting. This is a informal meeting for the supervisors to discuss existing matters. While discussions will take place\, no official voting will take place. Limited public input can be accepted.
URL:https://waynetwp.net/event/wayne-township-workshop/2025-07-16/
LOCATION:Country Crossroads Community Center
END:VEVENT
BEGIN:VEVENT
DTSTART;TZID=UTC:20250707T190000
DTEND;TZID=UTC:20250707T203000
DTSTAMP:20260425T074728
CREATED:20240613T050459Z
LAST-MODIFIED:20250106T032143Z
UID:10000099-1751914800-1751920200@waynetwp.net
SUMMARY:Monthly Township Meeting
DESCRIPTION:Keep informed on what is happening in the community. Voice your concerns. The agenda for this meeting can be viewed on the document section of the township website. It will be posted the Friday before the meeting.
URL:https://waynetwp.net/event/monthly-township-meeting-6/2025-07-07/
LOCATION:Atkinson Mills School House\, 3055 Ferguson Valley Road\, McVeytown\, PA\, 17051\, United States
END:VEVENT
BEGIN:VEVENT
DTSTART;TZID=UTC:20250623T180000
DTEND;TZID=UTC:20250623T193000
DTSTAMP:20260425T074728
CREATED:20240614T232912Z
LAST-MODIFIED:20250106T032043Z
UID:10000038-1750701600-1750707000@waynetwp.net
SUMMARY:Monthly Advisory Recreation Board Meeting
DESCRIPTION:Attend to see what all the talk is about. Help bring our community closer together. Your ideas and opinions will be much appreciated. We need your help!!! \n 
URL:https://waynetwp.net/event/monthly-advisory-recreation-board-meeting-7/2025-06-23/
LOCATION:Atkinson Mills School House\, 3055 Ferguson Valley Road\, McVeytown\, PA\, 17051\, United States
ORGANIZER;CN="Wayne Township Advisory Recreation Board":MAILTO:recboard@waynetwp.net
END:VEVENT
BEGIN:VEVENT
DTSTART;TZID=America/New_York:20250618T180000
DTEND;TZID=America/New_York:20250618T200000
DTSTAMP:20260425T074728
CREATED:20250525T224743Z
LAST-MODIFIED:20250525T224743Z
UID:10000167-1750269600-1750276800@waynetwp.net
SUMMARY:Wayne Township Workshop
DESCRIPTION:Dear Community Members\, \nWe are excited to invite you to our upcoming Township Workshop. This gathering is a vital opportunity to review all of the current projects and issues that are currently being addressed by the Supervisors. This meeting is not for new business. New business is to be addressed at the monthly township meeting. This is a informal meeting for the supervisors to discuss existing matters. While discussions will take place\, no official voting will take place. Limited public input can be accepted.
URL:https://waynetwp.net/event/wayne-township-workshop/2025-06-18/
LOCATION:Country Crossroads Community Center
END:VEVENT
BEGIN:VEVENT
DTSTART;TZID=UTC:20250602T190000
DTEND;TZID=UTC:20250602T203000
DTSTAMP:20260425T074728
CREATED:20240613T050459Z
LAST-MODIFIED:20250106T032143Z
UID:10000098-1748890800-1748896200@waynetwp.net
SUMMARY:Monthly Township Meeting
DESCRIPTION:Keep informed on what is happening in the community. Voice your concerns. The agenda for this meeting can be viewed on the document section of the township website. It will be posted the Friday before the meeting.
URL:https://waynetwp.net/event/monthly-township-meeting-6/2025-06-02/
LOCATION:Atkinson Mills School House\, 3055 Ferguson Valley Road\, McVeytown\, PA\, 17051\, United States
END:VEVENT
BEGIN:VEVENT
DTSTART;TZID=UTC:20250526T180000
DTEND;TZID=UTC:20250526T193000
DTSTAMP:20260425T074728
CREATED:20240614T232912Z
LAST-MODIFIED:20250106T032043Z
UID:10000037-1748282400-1748287800@waynetwp.net
SUMMARY:Monthly Advisory Recreation Board Meeting
DESCRIPTION:Attend to see what all the talk is about. Help bring our community closer together. Your ideas and opinions will be much appreciated. We need your help!!! \n 
URL:https://waynetwp.net/event/monthly-advisory-recreation-board-meeting-7/2025-05-26/
LOCATION:Atkinson Mills School House\, 3055 Ferguson Valley Road\, McVeytown\, PA\, 17051\, United States
ORGANIZER;CN="Wayne Township Advisory Recreation Board":MAILTO:recboard@waynetwp.net
END:VEVENT
BEGIN:VEVENT
DTSTART;TZID=America/New_York:20250510T090000
DTEND;TZID=America/New_York:20250510T140000
DTSTAMP:20260425T074728
CREATED:20250415T221557Z
LAST-MODIFIED:20250415T222430Z
UID:10000165-1746867600-1746885600@waynetwp.net
SUMMARY:Community Yard Sale
DESCRIPTION:The Wayne Township Recreation Board is sponsoring a free community yard sale. Pre Registration is required and there are limited number of available spots. All information is provided on the attached flyer. Sale spots are free but any donation to the Recreation Board would be greatly appreciated and would be utilized on a future event. 
URL:https://waynetwp.net/event/community-yard-sale/
LOCATION:Wayne Township Municipal Park\, 3055 Ferguson Valley Road\, McVeytown\, PA\, 17051\, United States
ATTACH;FMTTYPE=image/png:https://waynetwp.net/wp-content/uploads/2025/04/Garage-Sale-Flyer-1.png
ORGANIZER;CN="Wayne Township Advisory Recreation Board":MAILTO:recboard@waynetwp.net
END:VEVENT
BEGIN:VEVENT
DTSTART;TZID=UTC:20250505T190000
DTEND;TZID=UTC:20250505T203000
DTSTAMP:20260425T074728
CREATED:20240613T050459Z
LAST-MODIFIED:20250106T032143Z
UID:10000097-1746471600-1746477000@waynetwp.net
SUMMARY:Monthly Township Meeting
DESCRIPTION:Keep informed on what is happening in the community. Voice your concerns. The agenda for this meeting can be viewed on the document section of the township website. It will be posted the Friday before the meeting.
URL:https://waynetwp.net/event/monthly-township-meeting-6/2025-05-05/
LOCATION:Atkinson Mills School House\, 3055 Ferguson Valley Road\, McVeytown\, PA\, 17051\, United States
END:VEVENT
BEGIN:VEVENT
DTSTART;TZID=UTC:20250503T140000
DTEND;TZID=UTC:20250503T180000
DTSTAMP:20260425T074728
CREATED:20250106T054904Z
LAST-MODIFIED:20250106T054904Z
UID:10000156-1746280800-1746295200@waynetwp.net
SUMMARY:Newton/Wayne Volunteer Fire Company Saturday Turkey Supper
DESCRIPTION:
URL:https://waynetwp.net/event/newton-wayne-volunteer-fire-company-saturday-turkey-supper-4/
LOCATION:Newton/Wayne Volunteer Fire Company Banquet Hall\, 9 Market Street\, Newton Hamilton\, PA\, 17075\, United States
END:VEVENT
BEGIN:VEVENT
DTSTART;TZID=UTC:20250428T180000
DTEND;TZID=UTC:20250428T193000
DTSTAMP:20260425T074728
CREATED:20240614T232912Z
LAST-MODIFIED:20250106T032043Z
UID:10000036-1745863200-1745868600@waynetwp.net
SUMMARY:Monthly Advisory Recreation Board Meeting
DESCRIPTION:Attend to see what all the talk is about. Help bring our community closer together. Your ideas and opinions will be much appreciated. We need your help!!! \n 
URL:https://waynetwp.net/event/monthly-advisory-recreation-board-meeting-7/2025-04-28/
LOCATION:Atkinson Mills School House\, 3055 Ferguson Valley Road\, McVeytown\, PA\, 17051\, United States
ORGANIZER;CN="Wayne Township Advisory Recreation Board":MAILTO:recboard@waynetwp.net
END:VEVENT
BEGIN:VEVENT
DTSTART;TZID=America/New_York:20250426T150000
DTEND;TZID=America/New_York:20250426T190000
DTSTAMP:20260425T074728
CREATED:20250227T015654Z
LAST-MODIFIED:20250227T015939Z
UID:10000163-1745679600-1745694000@waynetwp.net
SUMMARY:Newton Wayne Fire Company Gun Bash
DESCRIPTION:Come out and support our local fire company. They will be there when we need them. \nFree lunch and beverages. A good time to be had by all. \n 
URL:https://waynetwp.net/event/newton-wayne-fire-company-gun-bash/
LOCATION:Newton/Wayne Volunteer Fire Company Banquet Hall\, 9 Market Street\, Newton Hamilton\, PA\, 17075\, United States
ATTACH;FMTTYPE=image/jpeg:https://waynetwp.net/wp-content/uploads/2025/02/gun-raffle-fotor-20250226145747.jpg
END:VEVENT
BEGIN:VEVENT
DTSTART;TZID=America/New_York:20250413T140000
DTEND;TZID=America/New_York:20250413T153000
DTSTAMP:20260425T074728
CREATED:20250311T041639Z
LAST-MODIFIED:20250311T041639Z
UID:10000164-1744552800-1744558200@waynetwp.net
SUMMARY:Easter Egg Hunt
DESCRIPTION:Come out and enjoy an Easter Egg hunt sponsored by The Wayne Township Recreation Board. There will be three age group hunts so there is something for everyone. Find that special egg for a special prize.
URL:https://waynetwp.net/event/easter-egg-hunt/
LOCATION:Country Crossroads Community Center
ATTACH;FMTTYPE=image/jpeg:https://waynetwp.net/wp-content/uploads/2025/03/Easter-Egg-Flyer.jpg
ORGANIZER;CN="Wayne Township Advisory Recreation Board":MAILTO:recboard@waynetwp.net
END:VEVENT
BEGIN:VEVENT
DTSTART;TZID=UTC:20250407T190000
DTEND;TZID=UTC:20250407T203000
DTSTAMP:20260425T074728
CREATED:20240613T050459Z
LAST-MODIFIED:20250106T032143Z
UID:10000096-1744052400-1744057800@waynetwp.net
SUMMARY:Monthly Township Meeting
DESCRIPTION:Keep informed on what is happening in the community. Voice your concerns. The agenda for this meeting can be viewed on the document section of the township website. It will be posted the Friday before the meeting.
URL:https://waynetwp.net/event/monthly-township-meeting-6/2025-04-07/
LOCATION:Atkinson Mills School House\, 3055 Ferguson Valley Road\, McVeytown\, PA\, 17051\, United States
END:VEVENT
BEGIN:VEVENT
DTSTART;TZID=UTC:20250405T140000
DTEND;TZID=UTC:20250405T180000
DTSTAMP:20260425T074728
CREATED:20250106T054818Z
LAST-MODIFIED:20250326T221621Z
UID:10000155-1743861600-1743876000@waynetwp.net
SUMMARY:Newton/Wayne Volunteer Fire Company Saturday Turkey Supper
DESCRIPTION:
URL:https://waynetwp.net/event/newton-wayne-volunteer-fire-company-saturday-turkey-supper-3/
LOCATION:Newton/Wayne Volunteer Fire Company Banquet Hall\, 9 Market Street\, Newton Hamilton\, PA\, 17075\, United States
ATTACH;FMTTYPE=image/jpeg:https://waynetwp.net/wp-content/uploads/2025/01/turkey-dinners.jpg
END:VEVENT
BEGIN:VEVENT
DTSTART;TZID=UTC:20250324T180000
DTEND;TZID=UTC:20250324T193000
DTSTAMP:20260425T074728
CREATED:20240614T232912Z
LAST-MODIFIED:20250106T032043Z
UID:10000035-1742839200-1742844600@waynetwp.net
SUMMARY:Monthly Advisory Recreation Board Meeting
DESCRIPTION:Attend to see what all the talk is about. Help bring our community closer together. Your ideas and opinions will be much appreciated. We need your help!!! \n 
URL:https://waynetwp.net/event/monthly-advisory-recreation-board-meeting-7/2025-03-24/
LOCATION:Atkinson Mills School House\, 3055 Ferguson Valley Road\, McVeytown\, PA\, 17051\, United States
ORGANIZER;CN="Wayne Township Advisory Recreation Board":MAILTO:recboard@waynetwp.net
END:VEVENT
BEGIN:VEVENT
DTSTART;TZID=UTC:20250308T140000
DTEND;TZID=UTC:20250308T180000
DTSTAMP:20260425T074728
CREATED:20250106T054735Z
LAST-MODIFIED:20250227T023111Z
UID:10000154-1741442400-1741456800@waynetwp.net
SUMMARY:Newton/Wayne Volunteer Fire Company Saturday Turkey Supper
DESCRIPTION:
URL:https://waynetwp.net/event/newton-wayne-volunteer-fire-company-saturday-turkey-supper-2/
LOCATION:Newton/Wayne Volunteer Fire Company Banquet Hall\, 9 Market Street\, Newton Hamilton\, PA\, 17075\, United States
ATTACH;FMTTYPE=image/jpeg:https://waynetwp.net/wp-content/uploads/2025/01/march-8th-turkey-supper.jpg
END:VEVENT
BEGIN:VEVENT
DTSTART;TZID=UTC:20250303T190000
DTEND;TZID=UTC:20250303T203000
DTSTAMP:20260425T074728
CREATED:20240613T050459Z
LAST-MODIFIED:20250106T032143Z
UID:10000095-1741028400-1741033800@waynetwp.net
SUMMARY:Monthly Township Meeting
DESCRIPTION:Keep informed on what is happening in the community. Voice your concerns. The agenda for this meeting can be viewed on the document section of the township website. It will be posted the Friday before the meeting.
URL:https://waynetwp.net/event/monthly-township-meeting-6/2025-03-03/
LOCATION:Atkinson Mills School House\, 3055 Ferguson Valley Road\, McVeytown\, PA\, 17051\, United States
END:VEVENT
END:VCALENDAR