BEGIN:VCALENDAR
VERSION:2.0
PRODID:-//Wayne Township, Mifflin County Pennsylvania - ECPv6.15.20//NONSGML v1.0//EN
CALSCALE:GREGORIAN
METHOD:PUBLISH
X-ORIGINAL-URL:https://waynetwp.net
X-WR-CALDESC:Events for Wayne Township, Mifflin County Pennsylvania
REFRESH-INTERVAL;VALUE=DURATION:PT1H
X-Robots-Tag:noindex
X-PUBLISHED-TTL:PT1H
BEGIN:VTIMEZONE
TZID:UTC
BEGIN:STANDARD
TZOFFSETFROM:+0000
TZOFFSETTO:+0000
TZNAME:UTC
DTSTART:20260101T000000
END:STANDARD
END:VTIMEZONE
BEGIN:VTIMEZONE
TZID:America/New_York
BEGIN:DAYLIGHT
TZOFFSETFROM:-0500
TZOFFSETTO:-0400
TZNAME:EDT
DTSTART:20270314T070000
END:DAYLIGHT
BEGIN:STANDARD
TZOFFSETFROM:-0400
TZOFFSETTO:-0500
TZNAME:EST
DTSTART:20271107T060000
END:STANDARD
BEGIN:DAYLIGHT
TZOFFSETFROM:-0500
TZOFFSETTO:-0400
TZNAME:EDT
DTSTART:20280312T070000
END:DAYLIGHT
BEGIN:STANDARD
TZOFFSETFROM:-0400
TZOFFSETTO:-0500
TZNAME:EST
DTSTART:20281105T060000
END:STANDARD
BEGIN:DAYLIGHT
TZOFFSETFROM:-0500
TZOFFSETTO:-0400
TZNAME:EDT
DTSTART:20290311T070000
END:DAYLIGHT
BEGIN:STANDARD
TZOFFSETFROM:-0400
TZOFFSETTO:-0500
TZNAME:EST
DTSTART:20291104T060000
END:STANDARD
END:VTIMEZONE
BEGIN:VEVENT
DTSTART;TZID=UTC:20271227T180000
DTEND;TZID=UTC:20271227T193000
DTSTAMP:20260424T120130
CREATED:20240614T232912Z
LAST-MODIFIED:20250106T032043Z
UID:10000068-1829930400-1829935800@waynetwp.net
SUMMARY:Monthly Advisory Recreation Board Meeting
DESCRIPTION:Attend to see what all the talk is about. Help bring our community closer together. Your ideas and opinions will be much appreciated. We need your help!!! \n 
URL:https://waynetwp.net/event/monthly-advisory-recreation-board-meeting-7/2027-12-27/
LOCATION:Atkinson Mills School House\, 3055 Ferguson Valley Road\, McVeytown\, PA\, 17051\, United States
ORGANIZER;CN="Wayne Township Advisory Recreation Board":MAILTO:recboard@waynetwp.net
END:VEVENT
BEGIN:VEVENT
DTSTART;TZID=UTC:20280103T190000
DTEND;TZID=UTC:20280103T203000
DTSTAMP:20260424T120130
CREATED:20240613T050459Z
LAST-MODIFIED:20250106T032143Z
UID:10000129-1830538800-1830544200@waynetwp.net
SUMMARY:Monthly Township Meeting
DESCRIPTION:Keep informed on what is happening in the community. Voice your concerns. The agenda for this meeting can be viewed on the document section of the township website. It will be posted the Friday before the meeting.
URL:https://waynetwp.net/event/monthly-township-meeting-6/2028-01-03/
LOCATION:Atkinson Mills School House\, 3055 Ferguson Valley Road\, McVeytown\, PA\, 17051\, United States
END:VEVENT
BEGIN:VEVENT
DTSTART;TZID=America/New_York:20280119T180000
DTEND;TZID=America/New_York:20280119T200000
DTSTAMP:20260424T120130
CREATED:20250525T224743Z
LAST-MODIFIED:20250525T224743Z
UID:10000198-1831917600-1831924800@waynetwp.net
SUMMARY:Wayne Township Workshop
DESCRIPTION:Dear Community Members\, \nWe are excited to invite you to our upcoming Township Workshop. This gathering is a vital opportunity to review all of the current projects and issues that are currently being addressed by the Supervisors. This meeting is not for new business. New business is to be addressed at the monthly township meeting. This is a informal meeting for the supervisors to discuss existing matters. While discussions will take place\, no official voting will take place. Limited public input can be accepted.
URL:https://waynetwp.net/event/wayne-township-workshop/2028-01-19/
LOCATION:Country Crossroads Community Center
END:VEVENT
BEGIN:VEVENT
DTSTART;TZID=UTC:20280124T180000
DTEND;TZID=UTC:20280124T193000
DTSTAMP:20260424T120130
CREATED:20240614T232912Z
LAST-MODIFIED:20250106T032043Z
UID:10000069-1832349600-1832355000@waynetwp.net
SUMMARY:Monthly Advisory Recreation Board Meeting
DESCRIPTION:Attend to see what all the talk is about. Help bring our community closer together. Your ideas and opinions will be much appreciated. We need your help!!! \n 
URL:https://waynetwp.net/event/monthly-advisory-recreation-board-meeting-7/2028-01-24/
LOCATION:Atkinson Mills School House\, 3055 Ferguson Valley Road\, McVeytown\, PA\, 17051\, United States
ORGANIZER;CN="Wayne Township Advisory Recreation Board":MAILTO:recboard@waynetwp.net
END:VEVENT
BEGIN:VEVENT
DTSTART;TZID=UTC:20280207T190000
DTEND;TZID=UTC:20280207T203000
DTSTAMP:20260424T120130
CREATED:20240613T050459Z
LAST-MODIFIED:20250106T032143Z
UID:10000130-1833562800-1833568200@waynetwp.net
SUMMARY:Monthly Township Meeting
DESCRIPTION:Keep informed on what is happening in the community. Voice your concerns. The agenda for this meeting can be viewed on the document section of the township website. It will be posted the Friday before the meeting.
URL:https://waynetwp.net/event/monthly-township-meeting-6/2028-02-07/
LOCATION:Atkinson Mills School House\, 3055 Ferguson Valley Road\, McVeytown\, PA\, 17051\, United States
END:VEVENT
BEGIN:VEVENT
DTSTART;TZID=America/New_York:20280216T180000
DTEND;TZID=America/New_York:20280216T200000
DTSTAMP:20260424T120130
CREATED:20250525T224743Z
LAST-MODIFIED:20250525T224743Z
UID:10000199-1834336800-1834344000@waynetwp.net
SUMMARY:Wayne Township Workshop
DESCRIPTION:Dear Community Members\, \nWe are excited to invite you to our upcoming Township Workshop. This gathering is a vital opportunity to review all of the current projects and issues that are currently being addressed by the Supervisors. This meeting is not for new business. New business is to be addressed at the monthly township meeting. This is a informal meeting for the supervisors to discuss existing matters. While discussions will take place\, no official voting will take place. Limited public input can be accepted.
URL:https://waynetwp.net/event/wayne-township-workshop/2028-02-16/
LOCATION:Country Crossroads Community Center
END:VEVENT
BEGIN:VEVENT
DTSTART;TZID=UTC:20280228T180000
DTEND;TZID=UTC:20280228T193000
DTSTAMP:20260424T120130
CREATED:20240614T232912Z
LAST-MODIFIED:20250106T032043Z
UID:10000070-1835373600-1835379000@waynetwp.net
SUMMARY:Monthly Advisory Recreation Board Meeting
DESCRIPTION:Attend to see what all the talk is about. Help bring our community closer together. Your ideas and opinions will be much appreciated. We need your help!!! \n 
URL:https://waynetwp.net/event/monthly-advisory-recreation-board-meeting-7/2028-02-28/
LOCATION:Atkinson Mills School House\, 3055 Ferguson Valley Road\, McVeytown\, PA\, 17051\, United States
ORGANIZER;CN="Wayne Township Advisory Recreation Board":MAILTO:recboard@waynetwp.net
END:VEVENT
BEGIN:VEVENT
DTSTART;TZID=UTC:20280306T190000
DTEND;TZID=UTC:20280306T203000
DTSTAMP:20260424T120130
CREATED:20240613T050459Z
LAST-MODIFIED:20250106T032143Z
UID:10000131-1835982000-1835987400@waynetwp.net
SUMMARY:Monthly Township Meeting
DESCRIPTION:Keep informed on what is happening in the community. Voice your concerns. The agenda for this meeting can be viewed on the document section of the township website. It will be posted the Friday before the meeting.
URL:https://waynetwp.net/event/monthly-township-meeting-6/2028-03-06/
LOCATION:Atkinson Mills School House\, 3055 Ferguson Valley Road\, McVeytown\, PA\, 17051\, United States
END:VEVENT
BEGIN:VEVENT
DTSTART;TZID=America/New_York:20280315T180000
DTEND;TZID=America/New_York:20280315T200000
DTSTAMP:20260424T120130
CREATED:20250525T224743Z
LAST-MODIFIED:20250525T224743Z
UID:10000200-1836756000-1836763200@waynetwp.net
SUMMARY:Wayne Township Workshop
DESCRIPTION:Dear Community Members\, \nWe are excited to invite you to our upcoming Township Workshop. This gathering is a vital opportunity to review all of the current projects and issues that are currently being addressed by the Supervisors. This meeting is not for new business. New business is to be addressed at the monthly township meeting. This is a informal meeting for the supervisors to discuss existing matters. While discussions will take place\, no official voting will take place. Limited public input can be accepted.
URL:https://waynetwp.net/event/wayne-township-workshop/2028-03-15/
LOCATION:Country Crossroads Community Center
END:VEVENT
BEGIN:VEVENT
DTSTART;TZID=UTC:20280327T180000
DTEND;TZID=UTC:20280327T193000
DTSTAMP:20260424T120130
CREATED:20240614T232912Z
LAST-MODIFIED:20250106T032043Z
UID:10000071-1837792800-1837798200@waynetwp.net
SUMMARY:Monthly Advisory Recreation Board Meeting
DESCRIPTION:Attend to see what all the talk is about. Help bring our community closer together. Your ideas and opinions will be much appreciated. We need your help!!! \n 
URL:https://waynetwp.net/event/monthly-advisory-recreation-board-meeting-7/2028-03-27/
LOCATION:Atkinson Mills School House\, 3055 Ferguson Valley Road\, McVeytown\, PA\, 17051\, United States
ORGANIZER;CN="Wayne Township Advisory Recreation Board":MAILTO:recboard@waynetwp.net
END:VEVENT
BEGIN:VEVENT
DTSTART;TZID=UTC:20280403T190000
DTEND;TZID=UTC:20280403T203000
DTSTAMP:20260424T120130
CREATED:20240613T050459Z
LAST-MODIFIED:20250106T032143Z
UID:10000132-1838401200-1838406600@waynetwp.net
SUMMARY:Monthly Township Meeting
DESCRIPTION:Keep informed on what is happening in the community. Voice your concerns. The agenda for this meeting can be viewed on the document section of the township website. It will be posted the Friday before the meeting.
URL:https://waynetwp.net/event/monthly-township-meeting-6/2028-04-03/
LOCATION:Atkinson Mills School House\, 3055 Ferguson Valley Road\, McVeytown\, PA\, 17051\, United States
END:VEVENT
BEGIN:VEVENT
DTSTART;TZID=America/New_York:20280419T180000
DTEND;TZID=America/New_York:20280419T200000
DTSTAMP:20260424T120130
CREATED:20250525T224743Z
LAST-MODIFIED:20250525T224743Z
UID:10000201-1839780000-1839787200@waynetwp.net
SUMMARY:Wayne Township Workshop
DESCRIPTION:Dear Community Members\, \nWe are excited to invite you to our upcoming Township Workshop. This gathering is a vital opportunity to review all of the current projects and issues that are currently being addressed by the Supervisors. This meeting is not for new business. New business is to be addressed at the monthly township meeting. This is a informal meeting for the supervisors to discuss existing matters. While discussions will take place\, no official voting will take place. Limited public input can be accepted.
URL:https://waynetwp.net/event/wayne-township-workshop/2028-04-19/
LOCATION:Country Crossroads Community Center
END:VEVENT
BEGIN:VEVENT
DTSTART;TZID=UTC:20280424T180000
DTEND;TZID=UTC:20280424T193000
DTSTAMP:20260424T120130
CREATED:20240614T232912Z
LAST-MODIFIED:20250106T032043Z
UID:10000072-1840212000-1840217400@waynetwp.net
SUMMARY:Monthly Advisory Recreation Board Meeting
DESCRIPTION:Attend to see what all the talk is about. Help bring our community closer together. Your ideas and opinions will be much appreciated. We need your help!!! \n 
URL:https://waynetwp.net/event/monthly-advisory-recreation-board-meeting-7/2028-04-24/
LOCATION:Atkinson Mills School House\, 3055 Ferguson Valley Road\, McVeytown\, PA\, 17051\, United States
ORGANIZER;CN="Wayne Township Advisory Recreation Board":MAILTO:recboard@waynetwp.net
END:VEVENT
BEGIN:VEVENT
DTSTART;TZID=UTC:20280501T190000
DTEND;TZID=UTC:20280501T203000
DTSTAMP:20260424T120130
CREATED:20240613T050459Z
LAST-MODIFIED:20250106T032143Z
UID:10000133-1840820400-1840825800@waynetwp.net
SUMMARY:Monthly Township Meeting
DESCRIPTION:Keep informed on what is happening in the community. Voice your concerns. The agenda for this meeting can be viewed on the document section of the township website. It will be posted the Friday before the meeting.
URL:https://waynetwp.net/event/monthly-township-meeting-6/2028-05-01/
LOCATION:Atkinson Mills School House\, 3055 Ferguson Valley Road\, McVeytown\, PA\, 17051\, United States
END:VEVENT
BEGIN:VEVENT
DTSTART;TZID=America/New_York:20280517T180000
DTEND;TZID=America/New_York:20280517T200000
DTSTAMP:20260424T120130
CREATED:20250525T224743Z
LAST-MODIFIED:20250525T224743Z
UID:10000202-1842199200-1842206400@waynetwp.net
SUMMARY:Wayne Township Workshop
DESCRIPTION:Dear Community Members\, \nWe are excited to invite you to our upcoming Township Workshop. This gathering is a vital opportunity to review all of the current projects and issues that are currently being addressed by the Supervisors. This meeting is not for new business. New business is to be addressed at the monthly township meeting. This is a informal meeting for the supervisors to discuss existing matters. While discussions will take place\, no official voting will take place. Limited public input can be accepted.
URL:https://waynetwp.net/event/wayne-township-workshop/2028-05-17/
LOCATION:Country Crossroads Community Center
END:VEVENT
BEGIN:VEVENT
DTSTART;TZID=UTC:20280522T180000
DTEND;TZID=UTC:20280522T193000
DTSTAMP:20260424T120130
CREATED:20240614T232912Z
LAST-MODIFIED:20250106T032043Z
UID:10000073-1842631200-1842636600@waynetwp.net
SUMMARY:Monthly Advisory Recreation Board Meeting
DESCRIPTION:Attend to see what all the talk is about. Help bring our community closer together. Your ideas and opinions will be much appreciated. We need your help!!! \n 
URL:https://waynetwp.net/event/monthly-advisory-recreation-board-meeting-7/2028-05-22/
LOCATION:Atkinson Mills School House\, 3055 Ferguson Valley Road\, McVeytown\, PA\, 17051\, United States
ORGANIZER;CN="Wayne Township Advisory Recreation Board":MAILTO:recboard@waynetwp.net
END:VEVENT
BEGIN:VEVENT
DTSTART;TZID=UTC:20280605T190000
DTEND;TZID=UTC:20280605T203000
DTSTAMP:20260424T120130
CREATED:20240613T050459Z
LAST-MODIFIED:20250106T032143Z
UID:10000134-1843844400-1843849800@waynetwp.net
SUMMARY:Monthly Township Meeting
DESCRIPTION:Keep informed on what is happening in the community. Voice your concerns. The agenda for this meeting can be viewed on the document section of the township website. It will be posted the Friday before the meeting.
URL:https://waynetwp.net/event/monthly-township-meeting-6/2028-06-05/
LOCATION:Atkinson Mills School House\, 3055 Ferguson Valley Road\, McVeytown\, PA\, 17051\, United States
END:VEVENT
BEGIN:VEVENT
DTSTART;TZID=America/New_York:20280621T180000
DTEND;TZID=America/New_York:20280621T200000
DTSTAMP:20260424T120130
CREATED:20250525T224743Z
LAST-MODIFIED:20250525T224743Z
UID:10000203-1845223200-1845230400@waynetwp.net
SUMMARY:Wayne Township Workshop
DESCRIPTION:Dear Community Members\, \nWe are excited to invite you to our upcoming Township Workshop. This gathering is a vital opportunity to review all of the current projects and issues that are currently being addressed by the Supervisors. This meeting is not for new business. New business is to be addressed at the monthly township meeting. This is a informal meeting for the supervisors to discuss existing matters. While discussions will take place\, no official voting will take place. Limited public input can be accepted.
URL:https://waynetwp.net/event/wayne-township-workshop/2028-06-21/
LOCATION:Country Crossroads Community Center
END:VEVENT
BEGIN:VEVENT
DTSTART;TZID=UTC:20280626T180000
DTEND;TZID=UTC:20280626T193000
DTSTAMP:20260424T120130
CREATED:20240614T232912Z
LAST-MODIFIED:20250106T032043Z
UID:10000074-1845655200-1845660600@waynetwp.net
SUMMARY:Monthly Advisory Recreation Board Meeting
DESCRIPTION:Attend to see what all the talk is about. Help bring our community closer together. Your ideas and opinions will be much appreciated. We need your help!!! \n 
URL:https://waynetwp.net/event/monthly-advisory-recreation-board-meeting-7/2028-06-26/
LOCATION:Atkinson Mills School House\, 3055 Ferguson Valley Road\, McVeytown\, PA\, 17051\, United States
ORGANIZER;CN="Wayne Township Advisory Recreation Board":MAILTO:recboard@waynetwp.net
END:VEVENT
BEGIN:VEVENT
DTSTART;TZID=UTC:20280703T190000
DTEND;TZID=UTC:20280703T203000
DTSTAMP:20260424T120130
CREATED:20240613T050459Z
LAST-MODIFIED:20250106T032143Z
UID:10000135-1846263600-1846269000@waynetwp.net
SUMMARY:Monthly Township Meeting
DESCRIPTION:Keep informed on what is happening in the community. Voice your concerns. The agenda for this meeting can be viewed on the document section of the township website. It will be posted the Friday before the meeting.
URL:https://waynetwp.net/event/monthly-township-meeting-6/2028-07-03/
LOCATION:Atkinson Mills School House\, 3055 Ferguson Valley Road\, McVeytown\, PA\, 17051\, United States
END:VEVENT
BEGIN:VEVENT
DTSTART;TZID=America/New_York:20280719T180000
DTEND;TZID=America/New_York:20280719T200000
DTSTAMP:20260424T120130
CREATED:20250525T224743Z
LAST-MODIFIED:20250525T224743Z
UID:10000204-1847642400-1847649600@waynetwp.net
SUMMARY:Wayne Township Workshop
DESCRIPTION:Dear Community Members\, \nWe are excited to invite you to our upcoming Township Workshop. This gathering is a vital opportunity to review all of the current projects and issues that are currently being addressed by the Supervisors. This meeting is not for new business. New business is to be addressed at the monthly township meeting. This is a informal meeting for the supervisors to discuss existing matters. While discussions will take place\, no official voting will take place. Limited public input can be accepted.
URL:https://waynetwp.net/event/wayne-township-workshop/2028-07-19/
LOCATION:Country Crossroads Community Center
END:VEVENT
BEGIN:VEVENT
DTSTART;TZID=UTC:20280724T180000
DTEND;TZID=UTC:20280724T193000
DTSTAMP:20260424T120130
CREATED:20240614T232912Z
LAST-MODIFIED:20250106T032043Z
UID:10000075-1848074400-1848079800@waynetwp.net
SUMMARY:Monthly Advisory Recreation Board Meeting
DESCRIPTION:Attend to see what all the talk is about. Help bring our community closer together. Your ideas and opinions will be much appreciated. We need your help!!! \n 
URL:https://waynetwp.net/event/monthly-advisory-recreation-board-meeting-7/2028-07-24/
LOCATION:Atkinson Mills School House\, 3055 Ferguson Valley Road\, McVeytown\, PA\, 17051\, United States
ORGANIZER;CN="Wayne Township Advisory Recreation Board":MAILTO:recboard@waynetwp.net
END:VEVENT
BEGIN:VEVENT
DTSTART;TZID=UTC:20280807T190000
DTEND;TZID=UTC:20280807T203000
DTSTAMP:20260424T120130
CREATED:20240613T050459Z
LAST-MODIFIED:20250106T032143Z
UID:10000136-1849287600-1849293000@waynetwp.net
SUMMARY:Monthly Township Meeting
DESCRIPTION:Keep informed on what is happening in the community. Voice your concerns. The agenda for this meeting can be viewed on the document section of the township website. It will be posted the Friday before the meeting.
URL:https://waynetwp.net/event/monthly-township-meeting-6/2028-08-07/
LOCATION:Atkinson Mills School House\, 3055 Ferguson Valley Road\, McVeytown\, PA\, 17051\, United States
END:VEVENT
BEGIN:VEVENT
DTSTART;TZID=America/New_York:20280816T180000
DTEND;TZID=America/New_York:20280816T200000
DTSTAMP:20260424T120130
CREATED:20250525T224743Z
LAST-MODIFIED:20250525T224743Z
UID:10000205-1850061600-1850068800@waynetwp.net
SUMMARY:Wayne Township Workshop
DESCRIPTION:Dear Community Members\, \nWe are excited to invite you to our upcoming Township Workshop. This gathering is a vital opportunity to review all of the current projects and issues that are currently being addressed by the Supervisors. This meeting is not for new business. New business is to be addressed at the monthly township meeting. This is a informal meeting for the supervisors to discuss existing matters. While discussions will take place\, no official voting will take place. Limited public input can be accepted.
URL:https://waynetwp.net/event/wayne-township-workshop/2028-08-16/
LOCATION:Country Crossroads Community Center
END:VEVENT
BEGIN:VEVENT
DTSTART;TZID=UTC:20280828T180000
DTEND;TZID=UTC:20280828T193000
DTSTAMP:20260424T120130
CREATED:20240614T232912Z
LAST-MODIFIED:20250106T032043Z
UID:10000076-1851098400-1851103800@waynetwp.net
SUMMARY:Monthly Advisory Recreation Board Meeting
DESCRIPTION:Attend to see what all the talk is about. Help bring our community closer together. Your ideas and opinions will be much appreciated. We need your help!!! \n 
URL:https://waynetwp.net/event/monthly-advisory-recreation-board-meeting-7/2028-08-28/
LOCATION:Atkinson Mills School House\, 3055 Ferguson Valley Road\, McVeytown\, PA\, 17051\, United States
ORGANIZER;CN="Wayne Township Advisory Recreation Board":MAILTO:recboard@waynetwp.net
END:VEVENT
BEGIN:VEVENT
DTSTART;TZID=UTC:20280904T190000
DTEND;TZID=UTC:20280904T203000
DTSTAMP:20260424T120130
CREATED:20240613T050459Z
LAST-MODIFIED:20250106T032143Z
UID:10000137-1851706800-1851712200@waynetwp.net
SUMMARY:Monthly Township Meeting
DESCRIPTION:Keep informed on what is happening in the community. Voice your concerns. The agenda for this meeting can be viewed on the document section of the township website. It will be posted the Friday before the meeting.
URL:https://waynetwp.net/event/monthly-township-meeting-6/2028-09-04/
LOCATION:Atkinson Mills School House\, 3055 Ferguson Valley Road\, McVeytown\, PA\, 17051\, United States
END:VEVENT
BEGIN:VEVENT
DTSTART;TZID=America/New_York:20280920T180000
DTEND;TZID=America/New_York:20280920T200000
DTSTAMP:20260424T120130
CREATED:20250525T224743Z
LAST-MODIFIED:20250525T224743Z
UID:10000206-1853085600-1853092800@waynetwp.net
SUMMARY:Wayne Township Workshop
DESCRIPTION:Dear Community Members\, \nWe are excited to invite you to our upcoming Township Workshop. This gathering is a vital opportunity to review all of the current projects and issues that are currently being addressed by the Supervisors. This meeting is not for new business. New business is to be addressed at the monthly township meeting. This is a informal meeting for the supervisors to discuss existing matters. While discussions will take place\, no official voting will take place. Limited public input can be accepted.
URL:https://waynetwp.net/event/wayne-township-workshop/2028-09-20/
LOCATION:Country Crossroads Community Center
END:VEVENT
BEGIN:VEVENT
DTSTART;TZID=UTC:20280925T180000
DTEND;TZID=UTC:20280925T193000
DTSTAMP:20260424T120130
CREATED:20240614T232912Z
LAST-MODIFIED:20250106T032043Z
UID:10000077-1853517600-1853523000@waynetwp.net
SUMMARY:Monthly Advisory Recreation Board Meeting
DESCRIPTION:Attend to see what all the talk is about. Help bring our community closer together. Your ideas and opinions will be much appreciated. We need your help!!! \n 
URL:https://waynetwp.net/event/monthly-advisory-recreation-board-meeting-7/2028-09-25/
LOCATION:Atkinson Mills School House\, 3055 Ferguson Valley Road\, McVeytown\, PA\, 17051\, United States
ORGANIZER;CN="Wayne Township Advisory Recreation Board":MAILTO:recboard@waynetwp.net
END:VEVENT
BEGIN:VEVENT
DTSTART;TZID=UTC:20281002T190000
DTEND;TZID=UTC:20281002T203000
DTSTAMP:20260424T120131
CREATED:20240613T050459Z
LAST-MODIFIED:20250106T032143Z
UID:10000138-1854126000-1854131400@waynetwp.net
SUMMARY:Monthly Township Meeting
DESCRIPTION:Keep informed on what is happening in the community. Voice your concerns. The agenda for this meeting can be viewed on the document section of the township website. It will be posted the Friday before the meeting.
URL:https://waynetwp.net/event/monthly-township-meeting-6/2028-10-02/
LOCATION:Atkinson Mills School House\, 3055 Ferguson Valley Road\, McVeytown\, PA\, 17051\, United States
END:VEVENT
BEGIN:VEVENT
DTSTART;TZID=America/New_York:20281018T180000
DTEND;TZID=America/New_York:20281018T200000
DTSTAMP:20260424T120131
CREATED:20250525T224743Z
LAST-MODIFIED:20250525T224743Z
UID:10000207-1855504800-1855512000@waynetwp.net
SUMMARY:Wayne Township Workshop
DESCRIPTION:Dear Community Members\, \nWe are excited to invite you to our upcoming Township Workshop. This gathering is a vital opportunity to review all of the current projects and issues that are currently being addressed by the Supervisors. This meeting is not for new business. New business is to be addressed at the monthly township meeting. This is a informal meeting for the supervisors to discuss existing matters. While discussions will take place\, no official voting will take place. Limited public input can be accepted.
URL:https://waynetwp.net/event/wayne-township-workshop/2028-10-18/
LOCATION:Country Crossroads Community Center
END:VEVENT
END:VCALENDAR