BEGIN:VCALENDAR
VERSION:2.0
PRODID:-//Wayne Township, Mifflin County Pennsylvania - ECPv6.15.20//NONSGML v1.0//EN
CALSCALE:GREGORIAN
METHOD:PUBLISH
X-ORIGINAL-URL:https://waynetwp.net
X-WR-CALDESC:Events for Wayne Township, Mifflin County Pennsylvania
REFRESH-INTERVAL;VALUE=DURATION:PT1H
X-Robots-Tag:noindex
X-PUBLISHED-TTL:PT1H
BEGIN:VTIMEZONE
TZID:UTC
BEGIN:STANDARD
TZOFFSETFROM:+0000
TZOFFSETTO:+0000
TZNAME:UTC
DTSTART:20280101T000000
END:STANDARD
END:VTIMEZONE
BEGIN:VTIMEZONE
TZID:America/New_York
BEGIN:DAYLIGHT
TZOFFSETFROM:-0500
TZOFFSETTO:-0400
TZNAME:EDT
DTSTART:20280312T070000
END:DAYLIGHT
BEGIN:STANDARD
TZOFFSETFROM:-0400
TZOFFSETTO:-0500
TZNAME:EST
DTSTART:20281105T060000
END:STANDARD
BEGIN:DAYLIGHT
TZOFFSETFROM:-0500
TZOFFSETTO:-0400
TZNAME:EDT
DTSTART:20290311T070000
END:DAYLIGHT
BEGIN:STANDARD
TZOFFSETFROM:-0400
TZOFFSETTO:-0500
TZNAME:EST
DTSTART:20291104T060000
END:STANDARD
BEGIN:DAYLIGHT
TZOFFSETFROM:-0500
TZOFFSETTO:-0400
TZNAME:EDT
DTSTART:20300310T070000
END:DAYLIGHT
BEGIN:STANDARD
TZOFFSETFROM:-0400
TZOFFSETTO:-0500
TZNAME:EST
DTSTART:20301103T060000
END:STANDARD
END:VTIMEZONE
BEGIN:VEVENT
DTSTART;TZID=UTC:20290305T190000
DTEND;TZID=UTC:20290305T203000
DTSTAMP:20260425T062244
CREATED:20240613T050459Z
LAST-MODIFIED:20250106T032143Z
UID:10000143-1867431600-1867437000@waynetwp.net
SUMMARY:Monthly Township Meeting
DESCRIPTION:Keep informed on what is happening in the community. Voice your concerns. The agenda for this meeting can be viewed on the document section of the township website. It will be posted the Friday before the meeting.
URL:https://waynetwp.net/event/monthly-township-meeting-6/2029-03-05/
LOCATION:Atkinson Mills School House\, 3055 Ferguson Valley Road\, McVeytown\, PA\, 17051\, United States
END:VEVENT
BEGIN:VEVENT
DTSTART;TZID=America/New_York:20290321T180000
DTEND;TZID=America/New_York:20290321T200000
DTSTAMP:20260425T062244
CREATED:20250525T224743Z
LAST-MODIFIED:20250525T224743Z
UID:10000212-1868810400-1868817600@waynetwp.net
SUMMARY:Wayne Township Workshop
DESCRIPTION:Dear Community Members\, \nWe are excited to invite you to our upcoming Township Workshop. This gathering is a vital opportunity to review all of the current projects and issues that are currently being addressed by the Supervisors. This meeting is not for new business. New business is to be addressed at the monthly township meeting. This is a informal meeting for the supervisors to discuss existing matters. While discussions will take place\, no official voting will take place. Limited public input can be accepted.
URL:https://waynetwp.net/event/wayne-township-workshop/2029-03-21/
LOCATION:Country Crossroads Community Center
END:VEVENT
BEGIN:VEVENT
DTSTART;TZID=UTC:20290326T180000
DTEND;TZID=UTC:20290326T193000
DTSTAMP:20260425T062244
CREATED:20240614T232912Z
LAST-MODIFIED:20250106T032043Z
UID:10000083-1869242400-1869247800@waynetwp.net
SUMMARY:Monthly Advisory Recreation Board Meeting
DESCRIPTION:Attend to see what all the talk is about. Help bring our community closer together. Your ideas and opinions will be much appreciated. We need your help!!! \n 
URL:https://waynetwp.net/event/monthly-advisory-recreation-board-meeting-7/2029-03-26/
LOCATION:Atkinson Mills School House\, 3055 Ferguson Valley Road\, McVeytown\, PA\, 17051\, United States
ORGANIZER;CN="Wayne Township Advisory Recreation Board":MAILTO:recboard@waynetwp.net
END:VEVENT
BEGIN:VEVENT
DTSTART;TZID=UTC:20290402T190000
DTEND;TZID=UTC:20290402T203000
DTSTAMP:20260425T062244
CREATED:20240613T050459Z
LAST-MODIFIED:20250106T032143Z
UID:10000144-1869850800-1869856200@waynetwp.net
SUMMARY:Monthly Township Meeting
DESCRIPTION:Keep informed on what is happening in the community. Voice your concerns. The agenda for this meeting can be viewed on the document section of the township website. It will be posted the Friday before the meeting.
URL:https://waynetwp.net/event/monthly-township-meeting-6/2029-04-02/
LOCATION:Atkinson Mills School House\, 3055 Ferguson Valley Road\, McVeytown\, PA\, 17051\, United States
END:VEVENT
BEGIN:VEVENT
DTSTART;TZID=America/New_York:20290418T180000
DTEND;TZID=America/New_York:20290418T200000
DTSTAMP:20260425T062244
CREATED:20250525T224743Z
LAST-MODIFIED:20250525T224743Z
UID:10000213-1871229600-1871236800@waynetwp.net
SUMMARY:Wayne Township Workshop
DESCRIPTION:Dear Community Members\, \nWe are excited to invite you to our upcoming Township Workshop. This gathering is a vital opportunity to review all of the current projects and issues that are currently being addressed by the Supervisors. This meeting is not for new business. New business is to be addressed at the monthly township meeting. This is a informal meeting for the supervisors to discuss existing matters. While discussions will take place\, no official voting will take place. Limited public input can be accepted.
URL:https://waynetwp.net/event/wayne-township-workshop/2029-04-18/
LOCATION:Country Crossroads Community Center
END:VEVENT
BEGIN:VEVENT
DTSTART;TZID=UTC:20290423T180000
DTEND;TZID=UTC:20290423T193000
DTSTAMP:20260425T062245
CREATED:20240614T232912Z
LAST-MODIFIED:20250106T032043Z
UID:10000084-1871661600-1871667000@waynetwp.net
SUMMARY:Monthly Advisory Recreation Board Meeting
DESCRIPTION:Attend to see what all the talk is about. Help bring our community closer together. Your ideas and opinions will be much appreciated. We need your help!!! \n 
URL:https://waynetwp.net/event/monthly-advisory-recreation-board-meeting-7/2029-04-23/
LOCATION:Atkinson Mills School House\, 3055 Ferguson Valley Road\, McVeytown\, PA\, 17051\, United States
ORGANIZER;CN="Wayne Township Advisory Recreation Board":MAILTO:recboard@waynetwp.net
END:VEVENT
BEGIN:VEVENT
DTSTART;TZID=UTC:20290507T190000
DTEND;TZID=UTC:20290507T203000
DTSTAMP:20260425T062245
CREATED:20240613T050459Z
LAST-MODIFIED:20250106T032143Z
UID:10000145-1872874800-1872880200@waynetwp.net
SUMMARY:Monthly Township Meeting
DESCRIPTION:Keep informed on what is happening in the community. Voice your concerns. The agenda for this meeting can be viewed on the document section of the township website. It will be posted the Friday before the meeting.
URL:https://waynetwp.net/event/monthly-township-meeting-6/2029-05-07/
LOCATION:Atkinson Mills School House\, 3055 Ferguson Valley Road\, McVeytown\, PA\, 17051\, United States
END:VEVENT
BEGIN:VEVENT
DTSTART;TZID=America/New_York:20290516T180000
DTEND;TZID=America/New_York:20290516T200000
DTSTAMP:20260425T062245
CREATED:20250525T224743Z
LAST-MODIFIED:20250525T224743Z
UID:10000214-1873648800-1873656000@waynetwp.net
SUMMARY:Wayne Township Workshop
DESCRIPTION:Dear Community Members\, \nWe are excited to invite you to our upcoming Township Workshop. This gathering is a vital opportunity to review all of the current projects and issues that are currently being addressed by the Supervisors. This meeting is not for new business. New business is to be addressed at the monthly township meeting. This is a informal meeting for the supervisors to discuss existing matters. While discussions will take place\, no official voting will take place. Limited public input can be accepted.
URL:https://waynetwp.net/event/wayne-township-workshop/2029-05-16/
LOCATION:Country Crossroads Community Center
END:VEVENT
BEGIN:VEVENT
DTSTART;TZID=UTC:20290528T180000
DTEND;TZID=UTC:20290528T193000
DTSTAMP:20260425T062245
CREATED:20240614T232912Z
LAST-MODIFIED:20250106T032043Z
UID:10000085-1874685600-1874691000@waynetwp.net
SUMMARY:Monthly Advisory Recreation Board Meeting
DESCRIPTION:Attend to see what all the talk is about. Help bring our community closer together. Your ideas and opinions will be much appreciated. We need your help!!! \n 
URL:https://waynetwp.net/event/monthly-advisory-recreation-board-meeting-7/2029-05-28/
LOCATION:Atkinson Mills School House\, 3055 Ferguson Valley Road\, McVeytown\, PA\, 17051\, United States
ORGANIZER;CN="Wayne Township Advisory Recreation Board":MAILTO:recboard@waynetwp.net
END:VEVENT
BEGIN:VEVENT
DTSTART;TZID=UTC:20290604T190000
DTEND;TZID=UTC:20290604T203000
DTSTAMP:20260425T062245
CREATED:20240613T050459Z
LAST-MODIFIED:20250106T032143Z
UID:10000146-1875294000-1875299400@waynetwp.net
SUMMARY:Monthly Township Meeting
DESCRIPTION:Keep informed on what is happening in the community. Voice your concerns. The agenda for this meeting can be viewed on the document section of the township website. It will be posted the Friday before the meeting.
URL:https://waynetwp.net/event/monthly-township-meeting-6/2029-06-04/
LOCATION:Atkinson Mills School House\, 3055 Ferguson Valley Road\, McVeytown\, PA\, 17051\, United States
END:VEVENT
BEGIN:VEVENT
DTSTART;TZID=America/New_York:20290620T180000
DTEND;TZID=America/New_York:20290620T200000
DTSTAMP:20260425T062245
CREATED:20250525T224743Z
LAST-MODIFIED:20250525T224743Z
UID:10000215-1876672800-1876680000@waynetwp.net
SUMMARY:Wayne Township Workshop
DESCRIPTION:Dear Community Members\, \nWe are excited to invite you to our upcoming Township Workshop. This gathering is a vital opportunity to review all of the current projects and issues that are currently being addressed by the Supervisors. This meeting is not for new business. New business is to be addressed at the monthly township meeting. This is a informal meeting for the supervisors to discuss existing matters. While discussions will take place\, no official voting will take place. Limited public input can be accepted.
URL:https://waynetwp.net/event/wayne-township-workshop/2029-06-20/
LOCATION:Country Crossroads Community Center
END:VEVENT
BEGIN:VEVENT
DTSTART;TZID=UTC:20290625T180000
DTEND;TZID=UTC:20290625T193000
DTSTAMP:20260425T062245
CREATED:20240614T232912Z
LAST-MODIFIED:20250106T032043Z
UID:10000086-1877104800-1877110200@waynetwp.net
SUMMARY:Monthly Advisory Recreation Board Meeting
DESCRIPTION:Attend to see what all the talk is about. Help bring our community closer together. Your ideas and opinions will be much appreciated. We need your help!!! \n 
URL:https://waynetwp.net/event/monthly-advisory-recreation-board-meeting-7/2029-06-25/
LOCATION:Atkinson Mills School House\, 3055 Ferguson Valley Road\, McVeytown\, PA\, 17051\, United States
ORGANIZER;CN="Wayne Township Advisory Recreation Board":MAILTO:recboard@waynetwp.net
END:VEVENT
BEGIN:VEVENT
DTSTART;TZID=UTC:20290702T190000
DTEND;TZID=UTC:20290702T203000
DTSTAMP:20260425T062245
CREATED:20240613T050459Z
LAST-MODIFIED:20250106T032143Z
UID:10000147-1877713200-1877718600@waynetwp.net
SUMMARY:Monthly Township Meeting
DESCRIPTION:Keep informed on what is happening in the community. Voice your concerns. The agenda for this meeting can be viewed on the document section of the township website. It will be posted the Friday before the meeting.
URL:https://waynetwp.net/event/monthly-township-meeting-6/2029-07-02/
LOCATION:Atkinson Mills School House\, 3055 Ferguson Valley Road\, McVeytown\, PA\, 17051\, United States
END:VEVENT
BEGIN:VEVENT
DTSTART;TZID=America/New_York:20290718T180000
DTEND;TZID=America/New_York:20290718T200000
DTSTAMP:20260425T062245
CREATED:20250525T224743Z
LAST-MODIFIED:20250525T224743Z
UID:10000216-1879092000-1879099200@waynetwp.net
SUMMARY:Wayne Township Workshop
DESCRIPTION:Dear Community Members\, \nWe are excited to invite you to our upcoming Township Workshop. This gathering is a vital opportunity to review all of the current projects and issues that are currently being addressed by the Supervisors. This meeting is not for new business. New business is to be addressed at the monthly township meeting. This is a informal meeting for the supervisors to discuss existing matters. While discussions will take place\, no official voting will take place. Limited public input can be accepted.
URL:https://waynetwp.net/event/wayne-township-workshop/2029-07-18/
LOCATION:Country Crossroads Community Center
END:VEVENT
BEGIN:VEVENT
DTSTART;TZID=UTC:20290723T180000
DTEND;TZID=UTC:20290723T193000
DTSTAMP:20260425T062245
CREATED:20240614T232912Z
LAST-MODIFIED:20250106T032043Z
UID:10000087-1879524000-1879529400@waynetwp.net
SUMMARY:Monthly Advisory Recreation Board Meeting
DESCRIPTION:Attend to see what all the talk is about. Help bring our community closer together. Your ideas and opinions will be much appreciated. We need your help!!! \n 
URL:https://waynetwp.net/event/monthly-advisory-recreation-board-meeting-7/2029-07-23/
LOCATION:Atkinson Mills School House\, 3055 Ferguson Valley Road\, McVeytown\, PA\, 17051\, United States
ORGANIZER;CN="Wayne Township Advisory Recreation Board":MAILTO:recboard@waynetwp.net
END:VEVENT
BEGIN:VEVENT
DTSTART;TZID=UTC:20290806T190000
DTEND;TZID=UTC:20290806T203000
DTSTAMP:20260425T062245
CREATED:20240613T050459Z
LAST-MODIFIED:20250106T032143Z
UID:10000148-1880737200-1880742600@waynetwp.net
SUMMARY:Monthly Township Meeting
DESCRIPTION:Keep informed on what is happening in the community. Voice your concerns. The agenda for this meeting can be viewed on the document section of the township website. It will be posted the Friday before the meeting.
URL:https://waynetwp.net/event/monthly-township-meeting-6/2029-08-06/
LOCATION:Atkinson Mills School House\, 3055 Ferguson Valley Road\, McVeytown\, PA\, 17051\, United States
END:VEVENT
BEGIN:VEVENT
DTSTART;TZID=America/New_York:20290815T180000
DTEND;TZID=America/New_York:20290815T200000
DTSTAMP:20260425T062245
CREATED:20250525T224743Z
LAST-MODIFIED:20250525T224743Z
UID:10000217-1881511200-1881518400@waynetwp.net
SUMMARY:Wayne Township Workshop
DESCRIPTION:Dear Community Members\, \nWe are excited to invite you to our upcoming Township Workshop. This gathering is a vital opportunity to review all of the current projects and issues that are currently being addressed by the Supervisors. This meeting is not for new business. New business is to be addressed at the monthly township meeting. This is a informal meeting for the supervisors to discuss existing matters. While discussions will take place\, no official voting will take place. Limited public input can be accepted.
URL:https://waynetwp.net/event/wayne-township-workshop/2029-08-15/
LOCATION:Country Crossroads Community Center
END:VEVENT
BEGIN:VEVENT
DTSTART;TZID=UTC:20290827T180000
DTEND;TZID=UTC:20290827T193000
DTSTAMP:20260425T062245
CREATED:20240614T232912Z
LAST-MODIFIED:20250106T032043Z
UID:10000088-1882548000-1882553400@waynetwp.net
SUMMARY:Monthly Advisory Recreation Board Meeting
DESCRIPTION:Attend to see what all the talk is about. Help bring our community closer together. Your ideas and opinions will be much appreciated. We need your help!!! \n 
URL:https://waynetwp.net/event/monthly-advisory-recreation-board-meeting-7/2029-08-27/
LOCATION:Atkinson Mills School House\, 3055 Ferguson Valley Road\, McVeytown\, PA\, 17051\, United States
ORGANIZER;CN="Wayne Township Advisory Recreation Board":MAILTO:recboard@waynetwp.net
END:VEVENT
BEGIN:VEVENT
DTSTART;TZID=UTC:20290903T190000
DTEND;TZID=UTC:20290903T203000
DTSTAMP:20260425T062245
CREATED:20240613T050459Z
LAST-MODIFIED:20250106T032143Z
UID:10000149-1883156400-1883161800@waynetwp.net
SUMMARY:Monthly Township Meeting
DESCRIPTION:Keep informed on what is happening in the community. Voice your concerns. The agenda for this meeting can be viewed on the document section of the township website. It will be posted the Friday before the meeting.
URL:https://waynetwp.net/event/monthly-township-meeting-6/2029-09-03/
LOCATION:Atkinson Mills School House\, 3055 Ferguson Valley Road\, McVeytown\, PA\, 17051\, United States
END:VEVENT
BEGIN:VEVENT
DTSTART;TZID=America/New_York:20290919T180000
DTEND;TZID=America/New_York:20290919T200000
DTSTAMP:20260425T062245
CREATED:20250525T224743Z
LAST-MODIFIED:20250525T224743Z
UID:10000218-1884535200-1884542400@waynetwp.net
SUMMARY:Wayne Township Workshop
DESCRIPTION:Dear Community Members\, \nWe are excited to invite you to our upcoming Township Workshop. This gathering is a vital opportunity to review all of the current projects and issues that are currently being addressed by the Supervisors. This meeting is not for new business. New business is to be addressed at the monthly township meeting. This is a informal meeting for the supervisors to discuss existing matters. While discussions will take place\, no official voting will take place. Limited public input can be accepted.
URL:https://waynetwp.net/event/wayne-township-workshop/2029-09-19/
LOCATION:Country Crossroads Community Center
END:VEVENT
BEGIN:VEVENT
DTSTART;TZID=UTC:20290924T180000
DTEND;TZID=UTC:20290924T193000
DTSTAMP:20260425T062245
CREATED:20240614T232912Z
LAST-MODIFIED:20250106T032043Z
UID:10000089-1884967200-1884972600@waynetwp.net
SUMMARY:Monthly Advisory Recreation Board Meeting
DESCRIPTION:Attend to see what all the talk is about. Help bring our community closer together. Your ideas and opinions will be much appreciated. We need your help!!! \n 
URL:https://waynetwp.net/event/monthly-advisory-recreation-board-meeting-7/2029-09-24/
LOCATION:Atkinson Mills School House\, 3055 Ferguson Valley Road\, McVeytown\, PA\, 17051\, United States
ORGANIZER;CN="Wayne Township Advisory Recreation Board":MAILTO:recboard@waynetwp.net
END:VEVENT
BEGIN:VEVENT
DTSTART;TZID=UTC:20291001T190000
DTEND;TZID=UTC:20291001T203000
DTSTAMP:20260425T062245
CREATED:20240613T050459Z
LAST-MODIFIED:20250106T032143Z
UID:10000150-1885575600-1885581000@waynetwp.net
SUMMARY:Monthly Township Meeting
DESCRIPTION:Keep informed on what is happening in the community. Voice your concerns. The agenda for this meeting can be viewed on the document section of the township website. It will be posted the Friday before the meeting.
URL:https://waynetwp.net/event/monthly-township-meeting-6/2029-10-01/
LOCATION:Atkinson Mills School House\, 3055 Ferguson Valley Road\, McVeytown\, PA\, 17051\, United States
END:VEVENT
BEGIN:VEVENT
DTSTART;TZID=America/New_York:20291017T180000
DTEND;TZID=America/New_York:20291017T200000
DTSTAMP:20260425T062245
CREATED:20250525T224743Z
LAST-MODIFIED:20250525T224743Z
UID:10000219-1886954400-1886961600@waynetwp.net
SUMMARY:Wayne Township Workshop
DESCRIPTION:Dear Community Members\, \nWe are excited to invite you to our upcoming Township Workshop. This gathering is a vital opportunity to review all of the current projects and issues that are currently being addressed by the Supervisors. This meeting is not for new business. New business is to be addressed at the monthly township meeting. This is a informal meeting for the supervisors to discuss existing matters. While discussions will take place\, no official voting will take place. Limited public input can be accepted.
URL:https://waynetwp.net/event/wayne-township-workshop/2029-10-17/
LOCATION:Country Crossroads Community Center
END:VEVENT
BEGIN:VEVENT
DTSTART;TZID=UTC:20291022T180000
DTEND;TZID=UTC:20291022T193000
DTSTAMP:20260425T062245
CREATED:20240614T232912Z
LAST-MODIFIED:20250106T032043Z
UID:10000090-1887386400-1887391800@waynetwp.net
SUMMARY:Monthly Advisory Recreation Board Meeting
DESCRIPTION:Attend to see what all the talk is about. Help bring our community closer together. Your ideas and opinions will be much appreciated. We need your help!!! \n 
URL:https://waynetwp.net/event/monthly-advisory-recreation-board-meeting-7/2029-10-22/
LOCATION:Atkinson Mills School House\, 3055 Ferguson Valley Road\, McVeytown\, PA\, 17051\, United States
ORGANIZER;CN="Wayne Township Advisory Recreation Board":MAILTO:recboard@waynetwp.net
END:VEVENT
BEGIN:VEVENT
DTSTART;TZID=UTC:20291105T190000
DTEND;TZID=UTC:20291105T203000
DTSTAMP:20260425T062245
CREATED:20240613T050459Z
LAST-MODIFIED:20250106T032143Z
UID:10000151-1888599600-1888605000@waynetwp.net
SUMMARY:Monthly Township Meeting
DESCRIPTION:Keep informed on what is happening in the community. Voice your concerns. The agenda for this meeting can be viewed on the document section of the township website. It will be posted the Friday before the meeting.
URL:https://waynetwp.net/event/monthly-township-meeting-6/2029-11-05/
LOCATION:Atkinson Mills School House\, 3055 Ferguson Valley Road\, McVeytown\, PA\, 17051\, United States
END:VEVENT
BEGIN:VEVENT
DTSTART;TZID=America/New_York:20291121T180000
DTEND;TZID=America/New_York:20291121T200000
DTSTAMP:20260425T062245
CREATED:20250525T224743Z
LAST-MODIFIED:20250525T224743Z
UID:10000220-1889978400-1889985600@waynetwp.net
SUMMARY:Wayne Township Workshop
DESCRIPTION:Dear Community Members\, \nWe are excited to invite you to our upcoming Township Workshop. This gathering is a vital opportunity to review all of the current projects and issues that are currently being addressed by the Supervisors. This meeting is not for new business. New business is to be addressed at the monthly township meeting. This is a informal meeting for the supervisors to discuss existing matters. While discussions will take place\, no official voting will take place. Limited public input can be accepted.
URL:https://waynetwp.net/event/wayne-township-workshop/2029-11-21/
LOCATION:Country Crossroads Community Center
END:VEVENT
BEGIN:VEVENT
DTSTART;TZID=UTC:20291126T180000
DTEND;TZID=UTC:20291126T193000
DTSTAMP:20260425T062245
CREATED:20240614T232912Z
LAST-MODIFIED:20250106T032043Z
UID:10000091-1890410400-1890415800@waynetwp.net
SUMMARY:Monthly Advisory Recreation Board Meeting
DESCRIPTION:Attend to see what all the talk is about. Help bring our community closer together. Your ideas and opinions will be much appreciated. We need your help!!! \n 
URL:https://waynetwp.net/event/monthly-advisory-recreation-board-meeting-7/2029-11-26/
LOCATION:Atkinson Mills School House\, 3055 Ferguson Valley Road\, McVeytown\, PA\, 17051\, United States
ORGANIZER;CN="Wayne Township Advisory Recreation Board":MAILTO:recboard@waynetwp.net
END:VEVENT
BEGIN:VEVENT
DTSTART;TZID=UTC:20291203T190000
DTEND;TZID=UTC:20291203T203000
DTSTAMP:20260425T062245
CREATED:20240613T050459Z
LAST-MODIFIED:20250106T032143Z
UID:10000152-1891018800-1891024200@waynetwp.net
SUMMARY:Monthly Township Meeting
DESCRIPTION:Keep informed on what is happening in the community. Voice your concerns. The agenda for this meeting can be viewed on the document section of the township website. It will be posted the Friday before the meeting.
URL:https://waynetwp.net/event/monthly-township-meeting-6/2029-12-03/
LOCATION:Atkinson Mills School House\, 3055 Ferguson Valley Road\, McVeytown\, PA\, 17051\, United States
END:VEVENT
BEGIN:VEVENT
DTSTART;TZID=America/New_York:20291219T180000
DTEND;TZID=America/New_York:20291219T200000
DTSTAMP:20260425T062245
CREATED:20250525T224743Z
LAST-MODIFIED:20250525T224743Z
UID:10000221-1892397600-1892404800@waynetwp.net
SUMMARY:Wayne Township Workshop
DESCRIPTION:Dear Community Members\, \nWe are excited to invite you to our upcoming Township Workshop. This gathering is a vital opportunity to review all of the current projects and issues that are currently being addressed by the Supervisors. This meeting is not for new business. New business is to be addressed at the monthly township meeting. This is a informal meeting for the supervisors to discuss existing matters. While discussions will take place\, no official voting will take place. Limited public input can be accepted.
URL:https://waynetwp.net/event/wayne-township-workshop/2029-12-19/
LOCATION:Country Crossroads Community Center
END:VEVENT
BEGIN:VEVENT
DTSTART;TZID=UTC:20291224T180000
DTEND;TZID=UTC:20291224T193000
DTSTAMP:20260425T062245
CREATED:20240614T232912Z
LAST-MODIFIED:20250106T032043Z
UID:10000092-1892829600-1892835000@waynetwp.net
SUMMARY:Monthly Advisory Recreation Board Meeting
DESCRIPTION:Attend to see what all the talk is about. Help bring our community closer together. Your ideas and opinions will be much appreciated. We need your help!!! \n 
URL:https://waynetwp.net/event/monthly-advisory-recreation-board-meeting-7/2029-12-24/
LOCATION:Atkinson Mills School House\, 3055 Ferguson Valley Road\, McVeytown\, PA\, 17051\, United States
ORGANIZER;CN="Wayne Township Advisory Recreation Board":MAILTO:recboard@waynetwp.net
END:VEVENT
END:VCALENDAR