BEGIN:VCALENDAR
VERSION:2.0
PRODID:-//Wayne Township, Mifflin County Pennsylvania - ECPv6.15.20//NONSGML v1.0//EN
CALSCALE:GREGORIAN
METHOD:PUBLISH
X-WR-CALNAME:Wayne Township, Mifflin County Pennsylvania
X-ORIGINAL-URL:https://waynetwp.net
X-WR-CALDESC:Events for Wayne Township, Mifflin County Pennsylvania
REFRESH-INTERVAL;VALUE=DURATION:PT1H
X-Robots-Tag:noindex
X-PUBLISHED-TTL:PT1H
BEGIN:VTIMEZONE
TZID:UTC
BEGIN:STANDARD
TZOFFSETFROM:+0000
TZOFFSETTO:+0000
TZNAME:UTC
DTSTART:20230101T000000
END:STANDARD
END:VTIMEZONE
BEGIN:VEVENT
DTSTART;TZID=UTC:20240902T190000
DTEND;TZID=UTC:20240902T203000
DTSTAMP:20260425T090228
CREATED:20240613T044732Z
LAST-MODIFIED:20240613T045123Z
UID:10000006-1725303600-1725309000@waynetwp.net
SUMMARY:Monthly Township meeting
DESCRIPTION:Keep informed on what is happening in the community. Voice your concerns. The agenda for this meeting can be viewed on the document section of the township website. It will be posted the Friday before the meeting.
URL:https://waynetwp.net/event/monthly-township-meeting-3/
LOCATION:Atkinson Mills School House\, 3055 Ferguson Valley Road\, McVeytown\, PA\, 17051\, United States
END:VEVENT
BEGIN:VEVENT
DTSTART;TZID=UTC:20240907T170000
DTEND;TZID=UTC:20240907T210000
DTSTAMP:20260425T090228
CREATED:20240615T144009Z
LAST-MODIFIED:20240615T144514Z
UID:10000021-1725728400-1725742800@waynetwp.net
SUMMARY:Rocky Ridge Ranch Rodeo
DESCRIPTION:Come out and have a family fun filled evening at the rodeo. Experience the uniqueness of attending a professional rodeo right here in Wayne Township. \nGates Open at 5:00 PM \nKids Rodeo Starts at 6:00 PM \nAdult Rodeo Starts at 7:oo PM \nAdult Tickets are $15.00 \nKids Ticket Age 6-12 Years are $10.00 \nChildren Under 6 Years Old are Free.
URL:https://waynetwp.net/event/rocky-ridge-rodeo-3/
LOCATION:Rocky Ridge Ranch\, 4357 Ferguson Valley Road\, McVeytown\, PA\, 17051
END:VEVENT
BEGIN:VEVENT
DTSTART;TZID=UTC:20240917T100000
DTEND;TZID=UTC:20240917T140000
DTSTAMP:20260425T090228
CREATED:20240904T154110Z
LAST-MODIFIED:20240914T123938Z
UID:10000025-1726567200-1726581600@waynetwp.net
SUMMARY:Wayne Township Seniors Event
DESCRIPTION:  \nWayne Township Seniors\nJoin with other Wayne Township Seniors for fun and friendship. Be part of a vibrant community that loves to laugh\, learn new things\, and serve the community. We celebrate holidays and normal days\, share meals and enjoy just being together sharing life. \nStarting Tuesday\, September 17th @ CrossRoads Community Center\, Ferguson Valley Road    10AM – 2:00 PM\nBring your own lunch for the first meeting as together we plan the rest of the year with activities and fun projects. \n 
URL:https://waynetwp.net/event/wayne-township-seniors-event/
LOCATION:Country Crossroads Community Center
ORGANIZER;CN="Wayne Township Advisory Recreation Board":MAILTO:recboard@waynetwp.net
END:VEVENT
BEGIN:VEVENT
DTSTART;TZID=UTC:20240923T180000
DTEND;TZID=UTC:20240923T193000
DTSTAMP:20260425T090228
CREATED:20240614T232404Z
LAST-MODIFIED:20240614T232404Z
UID:10000015-1727114400-1727119800@waynetwp.net
SUMMARY:Monthly Advisory Recreation Board Meeting
DESCRIPTION:Attend to see what all the talk is about. Help bring our community closer together. Your ideas and opinions will be much appreciated. We need your help!!!
URL:https://waynetwp.net/event/monthly-advisory-recreation-board-meeting-4/
LOCATION:Atkinson Mills School House\, 3055 Ferguson Valley Road\, McVeytown\, PA\, 17051\, United States
ORGANIZER;CN="Wayne Township Advisory Recreation Board":MAILTO:recboard@waynetwp.net
END:VEVENT
END:VCALENDAR