BEGIN:VCALENDAR
VERSION:2.0
PRODID:-//Wayne Township, Mifflin County Pennsylvania - ECPv6.15.20//NONSGML v1.0//EN
CALSCALE:GREGORIAN
METHOD:PUBLISH
X-WR-CALNAME:Wayne Township, Mifflin County Pennsylvania
X-ORIGINAL-URL:https://waynetwp.net
X-WR-CALDESC:Events for Wayne Township, Mifflin County Pennsylvania
REFRESH-INTERVAL;VALUE=DURATION:PT1H
X-Robots-Tag:noindex
X-PUBLISHED-TTL:PT1H
BEGIN:VTIMEZONE
TZID:UTC
BEGIN:STANDARD
TZOFFSETFROM:+0000
TZOFFSETTO:+0000
TZNAME:UTC
DTSTART:20240101T000000
END:STANDARD
END:VTIMEZONE
BEGIN:VEVENT
DTSTART;TZID=UTC:20250203T190000
DTEND;TZID=UTC:20250203T203000
DTSTAMP:20260424T215726
CREATED:20240613T050459Z
LAST-MODIFIED:20250106T032143Z
UID:10000094-1738609200-1738614600@waynetwp.net
SUMMARY:Monthly Township Meeting
DESCRIPTION:Keep informed on what is happening in the community. Voice your concerns. The agenda for this meeting can be viewed on the document section of the township website. It will be posted the Friday before the meeting.
URL:https://waynetwp.net/event/monthly-township-meeting-6/2025-02-03/
LOCATION:Atkinson Mills School House\, 3055 Ferguson Valley Road\, McVeytown\, PA\, 17051\, United States
END:VEVENT
BEGIN:VEVENT
DTSTART;TZID=UTC:20250208T140000
DTEND;TZID=UTC:20250208T180000
DTSTAMP:20260424T215726
CREATED:20250106T054532Z
LAST-MODIFIED:20250118T032229Z
UID:10000153-1739023200-1739037600@waynetwp.net
SUMMARY:Newton/Wayne Volunteer Fire Company Saturday Turkey Supper
DESCRIPTION:
URL:https://waynetwp.net/event/newton-wayne-volunteer-fire-company-saturday-turkey-supper/
LOCATION:Newton/Wayne Volunteer Fire Company Banquet Hall\, 9 Market Street\, Newton Hamilton\, PA\, 17075\, United States
END:VEVENT
BEGIN:VEVENT
DTSTART;TZID=UTC:20250224T180000
DTEND;TZID=UTC:20250224T193000
DTSTAMP:20260424T215726
CREATED:20240614T232912Z
LAST-MODIFIED:20250106T032043Z
UID:10000034-1740420000-1740425400@waynetwp.net
SUMMARY:Monthly Advisory Recreation Board Meeting
DESCRIPTION:Attend to see what all the talk is about. Help bring our community closer together. Your ideas and opinions will be much appreciated. We need your help!!! \n 
URL:https://waynetwp.net/event/monthly-advisory-recreation-board-meeting-7/2025-02-24/
LOCATION:Atkinson Mills School House\, 3055 Ferguson Valley Road\, McVeytown\, PA\, 17051\, United States
ORGANIZER;CN="Wayne Township Advisory Recreation Board":MAILTO:recboard@waynetwp.net
END:VEVENT
END:VCALENDAR