BEGIN:VCALENDAR
VERSION:2.0
PRODID:-//Wayne Township, Mifflin County Pennsylvania - ECPv6.15.20//NONSGML v1.0//EN
CALSCALE:GREGORIAN
METHOD:PUBLISH
X-WR-CALNAME:Wayne Township, Mifflin County Pennsylvania
X-ORIGINAL-URL:https://waynetwp.net
X-WR-CALDESC:Events for Wayne Township, Mifflin County Pennsylvania
REFRESH-INTERVAL;VALUE=DURATION:PT1H
X-Robots-Tag:noindex
X-PUBLISHED-TTL:PT1H
BEGIN:VTIMEZONE
TZID:UTC
BEGIN:STANDARD
TZOFFSETFROM:+0000
TZOFFSETTO:+0000
TZNAME:UTC
DTSTART:20240101T000000
END:STANDARD
END:VTIMEZONE
BEGIN:VTIMEZONE
TZID:America/New_York
BEGIN:DAYLIGHT
TZOFFSETFROM:-0500
TZOFFSETTO:-0400
TZNAME:EDT
DTSTART:20240310T070000
END:DAYLIGHT
BEGIN:STANDARD
TZOFFSETFROM:-0400
TZOFFSETTO:-0500
TZNAME:EST
DTSTART:20241103T060000
END:STANDARD
BEGIN:DAYLIGHT
TZOFFSETFROM:-0500
TZOFFSETTO:-0400
TZNAME:EDT
DTSTART:20250309T070000
END:DAYLIGHT
BEGIN:STANDARD
TZOFFSETFROM:-0400
TZOFFSETTO:-0500
TZNAME:EST
DTSTART:20251102T060000
END:STANDARD
BEGIN:DAYLIGHT
TZOFFSETFROM:-0500
TZOFFSETTO:-0400
TZNAME:EDT
DTSTART:20260308T070000
END:DAYLIGHT
BEGIN:STANDARD
TZOFFSETFROM:-0400
TZOFFSETTO:-0500
TZNAME:EST
DTSTART:20261101T060000
END:STANDARD
END:VTIMEZONE
BEGIN:VEVENT
DTSTART;TZID=UTC:20251103T190000
DTEND;TZID=UTC:20251103T203000
DTSTAMP:20260424T071108
CREATED:20240613T050459Z
LAST-MODIFIED:20250106T032143Z
UID:10000103-1762196400-1762201800@waynetwp.net
SUMMARY:Monthly Township Meeting
DESCRIPTION:Keep informed on what is happening in the community. Voice your concerns. The agenda for this meeting can be viewed on the document section of the township website. It will be posted the Friday before the meeting.
URL:https://waynetwp.net/event/monthly-township-meeting-6/2025-11-03/
LOCATION:Atkinson Mills School House\, 3055 Ferguson Valley Road\, McVeytown\, PA\, 17051\, United States
END:VEVENT
BEGIN:VEVENT
DTSTART;TZID=UTC:20251108T140000
DTEND;TZID=UTC:20251108T180000
DTSTAMP:20260424T071108
CREATED:20250106T055040Z
LAST-MODIFIED:20250106T055040Z
UID:10000159-1762610400-1762624800@waynetwp.net
SUMMARY:Newton/Wayne Volunteer Fire Company Saturday Turkey Supper
DESCRIPTION:
URL:https://waynetwp.net/event/newton-wayne-volunteer-fire-company-saturday-turkey-supper-7/
LOCATION:Newton/Wayne Volunteer Fire Company Banquet Hall\, 9 Market Street\, Newton Hamilton\, PA\, 17075\, United States
END:VEVENT
BEGIN:VEVENT
DTSTART;TZID=America/New_York:20251119T180000
DTEND;TZID=America/New_York:20251119T200000
DTSTAMP:20260424T071108
CREATED:20250525T224743Z
LAST-MODIFIED:20250525T224743Z
UID:10000172-1763575200-1763582400@waynetwp.net
SUMMARY:Wayne Township Workshop
DESCRIPTION:Dear Community Members\, \nWe are excited to invite you to our upcoming Township Workshop. This gathering is a vital opportunity to review all of the current projects and issues that are currently being addressed by the Supervisors. This meeting is not for new business. New business is to be addressed at the monthly township meeting. This is a informal meeting for the supervisors to discuss existing matters. While discussions will take place\, no official voting will take place. Limited public input can be accepted.
URL:https://waynetwp.net/event/wayne-township-workshop/2025-11-19/
LOCATION:Country Crossroads Community Center
END:VEVENT
BEGIN:VEVENT
DTSTART;TZID=UTC:20251124T180000
DTEND;TZID=UTC:20251124T193000
DTSTAMP:20260424T071108
CREATED:20240614T232912Z
LAST-MODIFIED:20250106T032043Z
UID:10000043-1764007200-1764012600@waynetwp.net
SUMMARY:Monthly Advisory Recreation Board Meeting
DESCRIPTION:Attend to see what all the talk is about. Help bring our community closer together. Your ideas and opinions will be much appreciated. We need your help!!! \n 
URL:https://waynetwp.net/event/monthly-advisory-recreation-board-meeting-7/2025-11-24/
LOCATION:Atkinson Mills School House\, 3055 Ferguson Valley Road\, McVeytown\, PA\, 17051\, United States
ORGANIZER;CN="Wayne Township Advisory Recreation Board":MAILTO:recboard@waynetwp.net
END:VEVENT
END:VCALENDAR