BEGIN:VCALENDAR
VERSION:2.0
PRODID:-//Wayne Township, Mifflin County Pennsylvania - ECPv6.15.20//NONSGML v1.0//EN
CALSCALE:GREGORIAN
METHOD:PUBLISH
X-WR-CALNAME:Wayne Township, Mifflin County Pennsylvania
X-ORIGINAL-URL:https://waynetwp.net
X-WR-CALDESC:Events for Wayne Township, Mifflin County Pennsylvania
REFRESH-INTERVAL;VALUE=DURATION:PT1H
X-Robots-Tag:noindex
X-PUBLISHED-TTL:PT1H
BEGIN:VTIMEZONE
TZID:UTC
BEGIN:STANDARD
TZOFFSETFROM:+0000
TZOFFSETTO:+0000
TZNAME:UTC
DTSTART:20250101T000000
END:STANDARD
END:VTIMEZONE
BEGIN:VEVENT
DTSTART;TZID=UTC:20260427T180000
DTEND;TZID=UTC:20260427T193000
DTSTAMP:20260423T200033
CREATED:20240614T232912Z
LAST-MODIFIED:20250106T032043Z
UID:10000048-1777312800-1777318200@waynetwp.net
SUMMARY:Monthly Advisory Recreation Board Meeting
DESCRIPTION:Attend to see what all the talk is about. Help bring our community closer together. Your ideas and opinions will be much appreciated. We need your help!!! \n 
URL:https://waynetwp.net/event/monthly-advisory-recreation-board-meeting-7/2026-04-27/
LOCATION:Atkinson Mills School House\, 3055 Ferguson Valley Road\, McVeytown\, PA\, 17051\, United States
ORGANIZER;CN="Wayne Township Advisory Recreation Board":MAILTO:recboard@waynetwp.net
END:VEVENT
BEGIN:VEVENT
DTSTART;TZID=UTC:20260525T180000
DTEND;TZID=UTC:20260525T193000
DTSTAMP:20260423T200033
CREATED:20240614T232912Z
LAST-MODIFIED:20250106T032043Z
UID:10000049-1779732000-1779737400@waynetwp.net
SUMMARY:Monthly Advisory Recreation Board Meeting
DESCRIPTION:Attend to see what all the talk is about. Help bring our community closer together. Your ideas and opinions will be much appreciated. We need your help!!! \n 
URL:https://waynetwp.net/event/monthly-advisory-recreation-board-meeting-7/2026-05-25/
LOCATION:Atkinson Mills School House\, 3055 Ferguson Valley Road\, McVeytown\, PA\, 17051\, United States
ORGANIZER;CN="Wayne Township Advisory Recreation Board":MAILTO:recboard@waynetwp.net
END:VEVENT
BEGIN:VEVENT
DTSTART;TZID=UTC:20260622T180000
DTEND;TZID=UTC:20260622T193000
DTSTAMP:20260423T200033
CREATED:20240614T232912Z
LAST-MODIFIED:20250106T032043Z
UID:10000050-1782151200-1782156600@waynetwp.net
SUMMARY:Monthly Advisory Recreation Board Meeting
DESCRIPTION:Attend to see what all the talk is about. Help bring our community closer together. Your ideas and opinions will be much appreciated. We need your help!!! \n 
URL:https://waynetwp.net/event/monthly-advisory-recreation-board-meeting-7/2026-06-22/
LOCATION:Atkinson Mills School House\, 3055 Ferguson Valley Road\, McVeytown\, PA\, 17051\, United States
ORGANIZER;CN="Wayne Township Advisory Recreation Board":MAILTO:recboard@waynetwp.net
END:VEVENT
BEGIN:VEVENT
DTSTART;TZID=UTC:20260727T180000
DTEND;TZID=UTC:20260727T193000
DTSTAMP:20260423T200033
CREATED:20240614T232912Z
LAST-MODIFIED:20250106T032043Z
UID:10000051-1785175200-1785180600@waynetwp.net
SUMMARY:Monthly Advisory Recreation Board Meeting
DESCRIPTION:Attend to see what all the talk is about. Help bring our community closer together. Your ideas and opinions will be much appreciated. We need your help!!! \n 
URL:https://waynetwp.net/event/monthly-advisory-recreation-board-meeting-7/2026-07-27/
LOCATION:Atkinson Mills School House\, 3055 Ferguson Valley Road\, McVeytown\, PA\, 17051\, United States
ORGANIZER;CN="Wayne Township Advisory Recreation Board":MAILTO:recboard@waynetwp.net
END:VEVENT
BEGIN:VEVENT
DTSTART;TZID=UTC:20260824T180000
DTEND;TZID=UTC:20260824T193000
DTSTAMP:20260423T200033
CREATED:20240614T232912Z
LAST-MODIFIED:20250106T032043Z
UID:10000052-1787594400-1787599800@waynetwp.net
SUMMARY:Monthly Advisory Recreation Board Meeting
DESCRIPTION:Attend to see what all the talk is about. Help bring our community closer together. Your ideas and opinions will be much appreciated. We need your help!!! \n 
URL:https://waynetwp.net/event/monthly-advisory-recreation-board-meeting-7/2026-08-24/
LOCATION:Atkinson Mills School House\, 3055 Ferguson Valley Road\, McVeytown\, PA\, 17051\, United States
ORGANIZER;CN="Wayne Township Advisory Recreation Board":MAILTO:recboard@waynetwp.net
END:VEVENT
BEGIN:VEVENT
DTSTART;TZID=UTC:20260928T180000
DTEND;TZID=UTC:20260928T193000
DTSTAMP:20260423T200033
CREATED:20240614T232912Z
LAST-MODIFIED:20250106T032043Z
UID:10000053-1790618400-1790623800@waynetwp.net
SUMMARY:Monthly Advisory Recreation Board Meeting
DESCRIPTION:Attend to see what all the talk is about. Help bring our community closer together. Your ideas and opinions will be much appreciated. We need your help!!! \n 
URL:https://waynetwp.net/event/monthly-advisory-recreation-board-meeting-7/2026-09-28/
LOCATION:Atkinson Mills School House\, 3055 Ferguson Valley Road\, McVeytown\, PA\, 17051\, United States
ORGANIZER;CN="Wayne Township Advisory Recreation Board":MAILTO:recboard@waynetwp.net
END:VEVENT
BEGIN:VEVENT
DTSTART;TZID=UTC:20261026T180000
DTEND;TZID=UTC:20261026T193000
DTSTAMP:20260423T200033
CREATED:20240614T232912Z
LAST-MODIFIED:20250106T032043Z
UID:10000054-1793037600-1793043000@waynetwp.net
SUMMARY:Monthly Advisory Recreation Board Meeting
DESCRIPTION:Attend to see what all the talk is about. Help bring our community closer together. Your ideas and opinions will be much appreciated. We need your help!!! \n 
URL:https://waynetwp.net/event/monthly-advisory-recreation-board-meeting-7/2026-10-26/
LOCATION:Atkinson Mills School House\, 3055 Ferguson Valley Road\, McVeytown\, PA\, 17051\, United States
ORGANIZER;CN="Wayne Township Advisory Recreation Board":MAILTO:recboard@waynetwp.net
END:VEVENT
BEGIN:VEVENT
DTSTART;TZID=UTC:20261123T180000
DTEND;TZID=UTC:20261123T193000
DTSTAMP:20260423T200033
CREATED:20240614T232912Z
LAST-MODIFIED:20250106T032043Z
UID:10000055-1795456800-1795462200@waynetwp.net
SUMMARY:Monthly Advisory Recreation Board Meeting
DESCRIPTION:Attend to see what all the talk is about. Help bring our community closer together. Your ideas and opinions will be much appreciated. We need your help!!! \n 
URL:https://waynetwp.net/event/monthly-advisory-recreation-board-meeting-7/2026-11-23/
LOCATION:Atkinson Mills School House\, 3055 Ferguson Valley Road\, McVeytown\, PA\, 17051\, United States
ORGANIZER;CN="Wayne Township Advisory Recreation Board":MAILTO:recboard@waynetwp.net
END:VEVENT
BEGIN:VEVENT
DTSTART;TZID=UTC:20261228T180000
DTEND;TZID=UTC:20261228T193000
DTSTAMP:20260423T200033
CREATED:20240614T232912Z
LAST-MODIFIED:20250106T032043Z
UID:10000056-1798480800-1798486200@waynetwp.net
SUMMARY:Monthly Advisory Recreation Board Meeting
DESCRIPTION:Attend to see what all the talk is about. Help bring our community closer together. Your ideas and opinions will be much appreciated. We need your help!!! \n 
URL:https://waynetwp.net/event/monthly-advisory-recreation-board-meeting-7/2026-12-28/
LOCATION:Atkinson Mills School House\, 3055 Ferguson Valley Road\, McVeytown\, PA\, 17051\, United States
ORGANIZER;CN="Wayne Township Advisory Recreation Board":MAILTO:recboard@waynetwp.net
END:VEVENT
BEGIN:VEVENT
DTSTART;TZID=UTC:20270125T180000
DTEND;TZID=UTC:20270125T193000
DTSTAMP:20260423T200033
CREATED:20240614T232912Z
LAST-MODIFIED:20250106T032043Z
UID:10000057-1800900000-1800905400@waynetwp.net
SUMMARY:Monthly Advisory Recreation Board Meeting
DESCRIPTION:Attend to see what all the talk is about. Help bring our community closer together. Your ideas and opinions will be much appreciated. We need your help!!! \n 
URL:https://waynetwp.net/event/monthly-advisory-recreation-board-meeting-7/2027-01-25/
LOCATION:Atkinson Mills School House\, 3055 Ferguson Valley Road\, McVeytown\, PA\, 17051\, United States
ORGANIZER;CN="Wayne Township Advisory Recreation Board":MAILTO:recboard@waynetwp.net
END:VEVENT
BEGIN:VEVENT
DTSTART;TZID=UTC:20270222T180000
DTEND;TZID=UTC:20270222T193000
DTSTAMP:20260423T200033
CREATED:20240614T232912Z
LAST-MODIFIED:20250106T032043Z
UID:10000058-1803319200-1803324600@waynetwp.net
SUMMARY:Monthly Advisory Recreation Board Meeting
DESCRIPTION:Attend to see what all the talk is about. Help bring our community closer together. Your ideas and opinions will be much appreciated. We need your help!!! \n 
URL:https://waynetwp.net/event/monthly-advisory-recreation-board-meeting-7/2027-02-22/
LOCATION:Atkinson Mills School House\, 3055 Ferguson Valley Road\, McVeytown\, PA\, 17051\, United States
ORGANIZER;CN="Wayne Township Advisory Recreation Board":MAILTO:recboard@waynetwp.net
END:VEVENT
BEGIN:VEVENT
DTSTART;TZID=UTC:20270322T180000
DTEND;TZID=UTC:20270322T193000
DTSTAMP:20260423T200033
CREATED:20240614T232912Z
LAST-MODIFIED:20250106T032043Z
UID:10000059-1805738400-1805743800@waynetwp.net
SUMMARY:Monthly Advisory Recreation Board Meeting
DESCRIPTION:Attend to see what all the talk is about. Help bring our community closer together. Your ideas and opinions will be much appreciated. We need your help!!! \n 
URL:https://waynetwp.net/event/monthly-advisory-recreation-board-meeting-7/2027-03-22/
LOCATION:Atkinson Mills School House\, 3055 Ferguson Valley Road\, McVeytown\, PA\, 17051\, United States
ORGANIZER;CN="Wayne Township Advisory Recreation Board":MAILTO:recboard@waynetwp.net
END:VEVENT
BEGIN:VEVENT
DTSTART;TZID=UTC:20270426T180000
DTEND;TZID=UTC:20270426T193000
DTSTAMP:20260423T200033
CREATED:20240614T232912Z
LAST-MODIFIED:20250106T032043Z
UID:10000060-1808762400-1808767800@waynetwp.net
SUMMARY:Monthly Advisory Recreation Board Meeting
DESCRIPTION:Attend to see what all the talk is about. Help bring our community closer together. Your ideas and opinions will be much appreciated. We need your help!!! \n 
URL:https://waynetwp.net/event/monthly-advisory-recreation-board-meeting-7/2027-04-26/
LOCATION:Atkinson Mills School House\, 3055 Ferguson Valley Road\, McVeytown\, PA\, 17051\, United States
ORGANIZER;CN="Wayne Township Advisory Recreation Board":MAILTO:recboard@waynetwp.net
END:VEVENT
BEGIN:VEVENT
DTSTART;TZID=UTC:20270524T180000
DTEND;TZID=UTC:20270524T193000
DTSTAMP:20260423T200033
CREATED:20240614T232912Z
LAST-MODIFIED:20250106T032043Z
UID:10000061-1811181600-1811187000@waynetwp.net
SUMMARY:Monthly Advisory Recreation Board Meeting
DESCRIPTION:Attend to see what all the talk is about. Help bring our community closer together. Your ideas and opinions will be much appreciated. We need your help!!! \n 
URL:https://waynetwp.net/event/monthly-advisory-recreation-board-meeting-7/2027-05-24/
LOCATION:Atkinson Mills School House\, 3055 Ferguson Valley Road\, McVeytown\, PA\, 17051\, United States
ORGANIZER;CN="Wayne Township Advisory Recreation Board":MAILTO:recboard@waynetwp.net
END:VEVENT
BEGIN:VEVENT
DTSTART;TZID=UTC:20270628T180000
DTEND;TZID=UTC:20270628T193000
DTSTAMP:20260423T200033
CREATED:20240614T232912Z
LAST-MODIFIED:20250106T032043Z
UID:10000062-1814205600-1814211000@waynetwp.net
SUMMARY:Monthly Advisory Recreation Board Meeting
DESCRIPTION:Attend to see what all the talk is about. Help bring our community closer together. Your ideas and opinions will be much appreciated. We need your help!!! \n 
URL:https://waynetwp.net/event/monthly-advisory-recreation-board-meeting-7/2027-06-28/
LOCATION:Atkinson Mills School House\, 3055 Ferguson Valley Road\, McVeytown\, PA\, 17051\, United States
ORGANIZER;CN="Wayne Township Advisory Recreation Board":MAILTO:recboard@waynetwp.net
END:VEVENT
BEGIN:VEVENT
DTSTART;TZID=UTC:20270726T180000
DTEND;TZID=UTC:20270726T193000
DTSTAMP:20260423T200033
CREATED:20240614T232912Z
LAST-MODIFIED:20250106T032043Z
UID:10000063-1816624800-1816630200@waynetwp.net
SUMMARY:Monthly Advisory Recreation Board Meeting
DESCRIPTION:Attend to see what all the talk is about. Help bring our community closer together. Your ideas and opinions will be much appreciated. We need your help!!! \n 
URL:https://waynetwp.net/event/monthly-advisory-recreation-board-meeting-7/2027-07-26/
LOCATION:Atkinson Mills School House\, 3055 Ferguson Valley Road\, McVeytown\, PA\, 17051\, United States
ORGANIZER;CN="Wayne Township Advisory Recreation Board":MAILTO:recboard@waynetwp.net
END:VEVENT
BEGIN:VEVENT
DTSTART;TZID=UTC:20270823T180000
DTEND;TZID=UTC:20270823T193000
DTSTAMP:20260423T200033
CREATED:20240614T232912Z
LAST-MODIFIED:20250106T032043Z
UID:10000064-1819044000-1819049400@waynetwp.net
SUMMARY:Monthly Advisory Recreation Board Meeting
DESCRIPTION:Attend to see what all the talk is about. Help bring our community closer together. Your ideas and opinions will be much appreciated. We need your help!!! \n 
URL:https://waynetwp.net/event/monthly-advisory-recreation-board-meeting-7/2027-08-23/
LOCATION:Atkinson Mills School House\, 3055 Ferguson Valley Road\, McVeytown\, PA\, 17051\, United States
ORGANIZER;CN="Wayne Township Advisory Recreation Board":MAILTO:recboard@waynetwp.net
END:VEVENT
BEGIN:VEVENT
DTSTART;TZID=UTC:20270927T180000
DTEND;TZID=UTC:20270927T193000
DTSTAMP:20260423T200033
CREATED:20240614T232912Z
LAST-MODIFIED:20250106T032043Z
UID:10000065-1822068000-1822073400@waynetwp.net
SUMMARY:Monthly Advisory Recreation Board Meeting
DESCRIPTION:Attend to see what all the talk is about. Help bring our community closer together. Your ideas and opinions will be much appreciated. We need your help!!! \n 
URL:https://waynetwp.net/event/monthly-advisory-recreation-board-meeting-7/2027-09-27/
LOCATION:Atkinson Mills School House\, 3055 Ferguson Valley Road\, McVeytown\, PA\, 17051\, United States
ORGANIZER;CN="Wayne Township Advisory Recreation Board":MAILTO:recboard@waynetwp.net
END:VEVENT
BEGIN:VEVENT
DTSTART;TZID=UTC:20271025T180000
DTEND;TZID=UTC:20271025T193000
DTSTAMP:20260423T200033
CREATED:20240614T232912Z
LAST-MODIFIED:20250106T032043Z
UID:10000066-1824487200-1824492600@waynetwp.net
SUMMARY:Monthly Advisory Recreation Board Meeting
DESCRIPTION:Attend to see what all the talk is about. Help bring our community closer together. Your ideas and opinions will be much appreciated. We need your help!!! \n 
URL:https://waynetwp.net/event/monthly-advisory-recreation-board-meeting-7/2027-10-25/
LOCATION:Atkinson Mills School House\, 3055 Ferguson Valley Road\, McVeytown\, PA\, 17051\, United States
ORGANIZER;CN="Wayne Township Advisory Recreation Board":MAILTO:recboard@waynetwp.net
END:VEVENT
BEGIN:VEVENT
DTSTART;TZID=UTC:20271122T180000
DTEND;TZID=UTC:20271122T193000
DTSTAMP:20260423T200033
CREATED:20240614T232912Z
LAST-MODIFIED:20250106T032043Z
UID:10000067-1826906400-1826911800@waynetwp.net
SUMMARY:Monthly Advisory Recreation Board Meeting
DESCRIPTION:Attend to see what all the talk is about. Help bring our community closer together. Your ideas and opinions will be much appreciated. We need your help!!! \n 
URL:https://waynetwp.net/event/monthly-advisory-recreation-board-meeting-7/2027-11-22/
LOCATION:Atkinson Mills School House\, 3055 Ferguson Valley Road\, McVeytown\, PA\, 17051\, United States
ORGANIZER;CN="Wayne Township Advisory Recreation Board":MAILTO:recboard@waynetwp.net
END:VEVENT
BEGIN:VEVENT
DTSTART;TZID=UTC:20271227T180000
DTEND;TZID=UTC:20271227T193000
DTSTAMP:20260423T200033
CREATED:20240614T232912Z
LAST-MODIFIED:20250106T032043Z
UID:10000068-1829930400-1829935800@waynetwp.net
SUMMARY:Monthly Advisory Recreation Board Meeting
DESCRIPTION:Attend to see what all the talk is about. Help bring our community closer together. Your ideas and opinions will be much appreciated. We need your help!!! \n 
URL:https://waynetwp.net/event/monthly-advisory-recreation-board-meeting-7/2027-12-27/
LOCATION:Atkinson Mills School House\, 3055 Ferguson Valley Road\, McVeytown\, PA\, 17051\, United States
ORGANIZER;CN="Wayne Township Advisory Recreation Board":MAILTO:recboard@waynetwp.net
END:VEVENT
BEGIN:VEVENT
DTSTART;TZID=UTC:20280124T180000
DTEND;TZID=UTC:20280124T193000
DTSTAMP:20260423T200033
CREATED:20240614T232912Z
LAST-MODIFIED:20250106T032043Z
UID:10000069-1832349600-1832355000@waynetwp.net
SUMMARY:Monthly Advisory Recreation Board Meeting
DESCRIPTION:Attend to see what all the talk is about. Help bring our community closer together. Your ideas and opinions will be much appreciated. We need your help!!! \n 
URL:https://waynetwp.net/event/monthly-advisory-recreation-board-meeting-7/2028-01-24/
LOCATION:Atkinson Mills School House\, 3055 Ferguson Valley Road\, McVeytown\, PA\, 17051\, United States
ORGANIZER;CN="Wayne Township Advisory Recreation Board":MAILTO:recboard@waynetwp.net
END:VEVENT
BEGIN:VEVENT
DTSTART;TZID=UTC:20280228T180000
DTEND;TZID=UTC:20280228T193000
DTSTAMP:20260423T200033
CREATED:20240614T232912Z
LAST-MODIFIED:20250106T032043Z
UID:10000070-1835373600-1835379000@waynetwp.net
SUMMARY:Monthly Advisory Recreation Board Meeting
DESCRIPTION:Attend to see what all the talk is about. Help bring our community closer together. Your ideas and opinions will be much appreciated. We need your help!!! \n 
URL:https://waynetwp.net/event/monthly-advisory-recreation-board-meeting-7/2028-02-28/
LOCATION:Atkinson Mills School House\, 3055 Ferguson Valley Road\, McVeytown\, PA\, 17051\, United States
ORGANIZER;CN="Wayne Township Advisory Recreation Board":MAILTO:recboard@waynetwp.net
END:VEVENT
BEGIN:VEVENT
DTSTART;TZID=UTC:20280327T180000
DTEND;TZID=UTC:20280327T193000
DTSTAMP:20260423T200033
CREATED:20240614T232912Z
LAST-MODIFIED:20250106T032043Z
UID:10000071-1837792800-1837798200@waynetwp.net
SUMMARY:Monthly Advisory Recreation Board Meeting
DESCRIPTION:Attend to see what all the talk is about. Help bring our community closer together. Your ideas and opinions will be much appreciated. We need your help!!! \n 
URL:https://waynetwp.net/event/monthly-advisory-recreation-board-meeting-7/2028-03-27/
LOCATION:Atkinson Mills School House\, 3055 Ferguson Valley Road\, McVeytown\, PA\, 17051\, United States
ORGANIZER;CN="Wayne Township Advisory Recreation Board":MAILTO:recboard@waynetwp.net
END:VEVENT
BEGIN:VEVENT
DTSTART;TZID=UTC:20280424T180000
DTEND;TZID=UTC:20280424T193000
DTSTAMP:20260423T200033
CREATED:20240614T232912Z
LAST-MODIFIED:20250106T032043Z
UID:10000072-1840212000-1840217400@waynetwp.net
SUMMARY:Monthly Advisory Recreation Board Meeting
DESCRIPTION:Attend to see what all the talk is about. Help bring our community closer together. Your ideas and opinions will be much appreciated. We need your help!!! \n 
URL:https://waynetwp.net/event/monthly-advisory-recreation-board-meeting-7/2028-04-24/
LOCATION:Atkinson Mills School House\, 3055 Ferguson Valley Road\, McVeytown\, PA\, 17051\, United States
ORGANIZER;CN="Wayne Township Advisory Recreation Board":MAILTO:recboard@waynetwp.net
END:VEVENT
BEGIN:VEVENT
DTSTART;TZID=UTC:20280522T180000
DTEND;TZID=UTC:20280522T193000
DTSTAMP:20260423T200033
CREATED:20240614T232912Z
LAST-MODIFIED:20250106T032043Z
UID:10000073-1842631200-1842636600@waynetwp.net
SUMMARY:Monthly Advisory Recreation Board Meeting
DESCRIPTION:Attend to see what all the talk is about. Help bring our community closer together. Your ideas and opinions will be much appreciated. We need your help!!! \n 
URL:https://waynetwp.net/event/monthly-advisory-recreation-board-meeting-7/2028-05-22/
LOCATION:Atkinson Mills School House\, 3055 Ferguson Valley Road\, McVeytown\, PA\, 17051\, United States
ORGANIZER;CN="Wayne Township Advisory Recreation Board":MAILTO:recboard@waynetwp.net
END:VEVENT
BEGIN:VEVENT
DTSTART;TZID=UTC:20280626T180000
DTEND;TZID=UTC:20280626T193000
DTSTAMP:20260423T200033
CREATED:20240614T232912Z
LAST-MODIFIED:20250106T032043Z
UID:10000074-1845655200-1845660600@waynetwp.net
SUMMARY:Monthly Advisory Recreation Board Meeting
DESCRIPTION:Attend to see what all the talk is about. Help bring our community closer together. Your ideas and opinions will be much appreciated. We need your help!!! \n 
URL:https://waynetwp.net/event/monthly-advisory-recreation-board-meeting-7/2028-06-26/
LOCATION:Atkinson Mills School House\, 3055 Ferguson Valley Road\, McVeytown\, PA\, 17051\, United States
ORGANIZER;CN="Wayne Township Advisory Recreation Board":MAILTO:recboard@waynetwp.net
END:VEVENT
BEGIN:VEVENT
DTSTART;TZID=UTC:20280724T180000
DTEND;TZID=UTC:20280724T193000
DTSTAMP:20260423T200033
CREATED:20240614T232912Z
LAST-MODIFIED:20250106T032043Z
UID:10000075-1848074400-1848079800@waynetwp.net
SUMMARY:Monthly Advisory Recreation Board Meeting
DESCRIPTION:Attend to see what all the talk is about. Help bring our community closer together. Your ideas and opinions will be much appreciated. We need your help!!! \n 
URL:https://waynetwp.net/event/monthly-advisory-recreation-board-meeting-7/2028-07-24/
LOCATION:Atkinson Mills School House\, 3055 Ferguson Valley Road\, McVeytown\, PA\, 17051\, United States
ORGANIZER;CN="Wayne Township Advisory Recreation Board":MAILTO:recboard@waynetwp.net
END:VEVENT
BEGIN:VEVENT
DTSTART;TZID=UTC:20280828T180000
DTEND;TZID=UTC:20280828T193000
DTSTAMP:20260423T200033
CREATED:20240614T232912Z
LAST-MODIFIED:20250106T032043Z
UID:10000076-1851098400-1851103800@waynetwp.net
SUMMARY:Monthly Advisory Recreation Board Meeting
DESCRIPTION:Attend to see what all the talk is about. Help bring our community closer together. Your ideas and opinions will be much appreciated. We need your help!!! \n 
URL:https://waynetwp.net/event/monthly-advisory-recreation-board-meeting-7/2028-08-28/
LOCATION:Atkinson Mills School House\, 3055 Ferguson Valley Road\, McVeytown\, PA\, 17051\, United States
ORGANIZER;CN="Wayne Township Advisory Recreation Board":MAILTO:recboard@waynetwp.net
END:VEVENT
BEGIN:VEVENT
DTSTART;TZID=UTC:20280925T180000
DTEND;TZID=UTC:20280925T193000
DTSTAMP:20260423T200033
CREATED:20240614T232912Z
LAST-MODIFIED:20250106T032043Z
UID:10000077-1853517600-1853523000@waynetwp.net
SUMMARY:Monthly Advisory Recreation Board Meeting
DESCRIPTION:Attend to see what all the talk is about. Help bring our community closer together. Your ideas and opinions will be much appreciated. We need your help!!! \n 
URL:https://waynetwp.net/event/monthly-advisory-recreation-board-meeting-7/2028-09-25/
LOCATION:Atkinson Mills School House\, 3055 Ferguson Valley Road\, McVeytown\, PA\, 17051\, United States
ORGANIZER;CN="Wayne Township Advisory Recreation Board":MAILTO:recboard@waynetwp.net
END:VEVENT
END:VCALENDAR