BEGIN:VCALENDAR
VERSION:2.0
PRODID:-//Wayne Township, Mifflin County Pennsylvania - ECPv6.15.20//NONSGML v1.0//EN
CALSCALE:GREGORIAN
METHOD:PUBLISH
X-ORIGINAL-URL:https://waynetwp.net
X-WR-CALDESC:Events for Wayne Township, Mifflin County Pennsylvania
REFRESH-INTERVAL;VALUE=DURATION:PT1H
X-Robots-Tag:noindex
X-PUBLISHED-TTL:PT1H
BEGIN:VTIMEZONE
TZID:UTC
BEGIN:STANDARD
TZOFFSETFROM:+0000
TZOFFSETTO:+0000
TZNAME:UTC
DTSTART:20230101T000000
END:STANDARD
END:VTIMEZONE
BEGIN:VEVENT
DTSTART;TZID=UTC:20241012T100000
DTEND;TZID=UTC:20241012T160000
DTSTAMP:20260423T163333
CREATED:20240613T144633Z
LAST-MODIFIED:20240613T144633Z
UID:10000010-1728727200-1728748800@waynetwp.net
SUMMARY:2nd Annual Atkinson Manor Community Day
DESCRIPTION:Come out and enjoy the fun. Explore local venders. Mingle with your neighbors.
URL:https://waynetwp.net/event/2nd-annual-atkinson-manor-community-day/
LOCATION:Atkinson Manor\, 2370 Ferguson Valley Road\, McVeytown\, PA\, 17051
END:VEVENT
END:VCALENDAR