BEGIN:VCALENDAR
VERSION:2.0
PRODID:-//Wayne Township, Mifflin County Pennsylvania - ECPv6.15.20//NONSGML v1.0//EN
CALSCALE:GREGORIAN
METHOD:PUBLISH
X-ORIGINAL-URL:https://waynetwp.net
X-WR-CALDESC:Events for Wayne Township, Mifflin County Pennsylvania
REFRESH-INTERVAL;VALUE=DURATION:PT1H
X-Robots-Tag:noindex
X-PUBLISHED-TTL:PT1H
BEGIN:VTIMEZONE
TZID:UTC
BEGIN:STANDARD
TZOFFSETFROM:+0000
TZOFFSETTO:+0000
TZNAME:UTC
DTSTART:20230101T000000
END:STANDARD
END:VTIMEZONE
BEGIN:VEVENT
DTSTART;TZID=UTC:20241005T170000
DTEND;TZID=UTC:20241005T210000
DTSTAMP:20260423T235354
CREATED:20240615T144216Z
LAST-MODIFIED:20240914T122928Z
UID:10000022-1728147600-1728162000@waynetwp.net
SUMMARY:Rocky Ridge Ranch Rodeo
DESCRIPTION:Come out and have a family fun filled evening at the rodeo. Experience the uniqueness of attending a professional rodeo right here in Wayne Township. \nGates Open at 5:00 PM \nKids Rodeo Starts at 6:00 PM \nAdult Rodeo Starts at 7:oo PM \nAdult Tickets are $15.00 \nKids Ticket Age 6-12 Years are $10.00 \nChildren Under 6 Years Old are Free.
URL:https://waynetwp.net/event/rocky-ridge-ranch-kord-aurand-memorial-rodeo/
LOCATION:Rocky Ridge Ranch\, 4357 Ferguson Valley Road\, McVeytown\, PA\, 17051
END:VEVENT
BEGIN:VEVENT
DTSTART;TZID=UTC:20240907T170000
DTEND;TZID=UTC:20240907T210000
DTSTAMP:20260423T235354
CREATED:20240615T144009Z
LAST-MODIFIED:20240615T144514Z
UID:10000021-1725728400-1725742800@waynetwp.net
SUMMARY:Rocky Ridge Ranch Rodeo
DESCRIPTION:Come out and have a family fun filled evening at the rodeo. Experience the uniqueness of attending a professional rodeo right here in Wayne Township. \nGates Open at 5:00 PM \nKids Rodeo Starts at 6:00 PM \nAdult Rodeo Starts at 7:oo PM \nAdult Tickets are $15.00 \nKids Ticket Age 6-12 Years are $10.00 \nChildren Under 6 Years Old are Free.
URL:https://waynetwp.net/event/rocky-ridge-rodeo-3/
LOCATION:Rocky Ridge Ranch\, 4357 Ferguson Valley Road\, McVeytown\, PA\, 17051
END:VEVENT
BEGIN:VEVENT
DTSTART;TZID=UTC:20240817T170000
DTEND;TZID=UTC:20240817T210000
DTSTAMP:20260423T235354
CREATED:20240615T143806Z
LAST-MODIFIED:20240904T155213Z
UID:10000020-1723914000-1723928400@waynetwp.net
SUMMARY:Rocky Ridge Ranch Rodeo
DESCRIPTION:Come out and have a family fun filled evening at the rodeo. Experience the uniqueness of attending a professional rodeo right here in Wayne Township. \nGates Open at 5:00 PM \nKids Rodeo Starts at 6:00 PM \nAdult Rodeo Starts at 7:00 PM \nAdult Tickets are $15.00 \nKids Ticket Age 6-12 Years are $10.00 \nChildren Under 6 Years Old are Free.
URL:https://waynetwp.net/event/rocky-ridge-rodeo-2/
LOCATION:Rocky Ridge Ranch\, 4357 Ferguson Valley Road\, McVeytown\, PA\, 17051
END:VEVENT
BEGIN:VEVENT
DTSTART;TZID=UTC:20240713T170000
DTEND;TZID=UTC:20240713T210000
DTSTAMP:20260423T235354
CREATED:20240615T143616Z
LAST-MODIFIED:20240622T093454Z
UID:10000019-1720890000-1720904400@waynetwp.net
SUMMARY:Rocky Ridge Ranch Rodeo
DESCRIPTION:Come out and have a family fun filled evening at the rodeo. Experience the uniqueness of attending a professional rodeo right here in Wayne Township. \nGates Open at 5:00 PM \nKids Rodeo Starts at 6:00 PM \nAdult Rodeo Starts at 7:00 PM \nAdult Tickets are $15.00 \nKids Ticket Age 6-12 Years are $10.00 \nChildren Under 6 Years Old are Free.
URL:https://waynetwp.net/event/rocky-ridge-rodeo/
LOCATION:Rocky Ridge Ranch\, 4357 Ferguson Valley Road\, McVeytown\, PA\, 17051
END:VEVENT
END:VCALENDAR